

BEGIN:VCALENDAR
VERSION:2.0
PRODID:-//Home - ECPv6.15.20//NONSGML v1.0//EN
CALSCALE:GREGORIAN
METHOD:PUBLISH
X-ORIGINAL-URL:https://www.lvtemple.org
X-WR-CALDESC:Events for Home
REFRESH-INTERVAL;VALUE=DURATION:PT1H
X-Robots-Tag:noindex
X-PUBLISHED-TTL:PT1H
BEGIN:VTIMEZONE
TZID:America/Los_Angeles
BEGIN:DAYLIGHT
TZOFFSETFROM:-0800
TZOFFSETTO:-0700
TZNAME:PDT
DTSTART:20230312T100000
END:DAYLIGHT
BEGIN:STANDARD
TZOFFSETFROM:-0700
TZOFFSETTO:-0800
TZNAME:PST
DTSTART:20231105T090000
END:STANDARD
BEGIN:DAYLIGHT
TZOFFSETFROM:-0800
TZOFFSETTO:-0700
TZNAME:PDT
DTSTART:20240310T100000
END:DAYLIGHT
BEGIN:STANDARD
TZOFFSETFROM:-0700
TZOFFSETTO:-0800
TZNAME:PST
DTSTART:20241103T090000
END:STANDARD
BEGIN:DAYLIGHT
TZOFFSETFROM:-0800
TZOFFSETTO:-0700
TZNAME:PDT
DTSTART:20250309T100000
END:DAYLIGHT
BEGIN:STANDARD
TZOFFSETFROM:-0700
TZOFFSETTO:-0800
TZNAME:PST
DTSTART:20251102T090000
END:STANDARD
END:VTIMEZONE
BEGIN:VEVENT
DTSTART;TZID=America/Los_Angeles:20240716T183000
DTEND;TZID=America/Los_Angeles:20240716T203000
DTSTAMP:20260422T195546
CREATED:20240610T000718Z
LAST-MODIFIED:20240610T001140Z
UID:10003244-1721154600-1721161800@www.lvtemple.org
SUMMARY:Pravachanam on Shiv Leela by Brahmasri Samavedam Shanmukha Sarma
DESCRIPTION:
URL:https://www.lvtemple.org/event/pravachanam-on-shiv-leela-by-brahmasri-samavedam-shanmukha-sarma/2024-07-16/
LOCATION:SVETA LV Temple\, Lakshmi Venkateswara Temple\, 18109 NE 76th St\, STE#105\, Redmond\, WA\, 98052\, United States
CATEGORIES:Cultural
ATTACH;FMTTYPE=image/jpeg:https://www.lvtemple.org/wp-content/uploads/2024/06/Event-Flyers_20240607_112530_0000.jpg
END:VEVENT
BEGIN:VEVENT
DTSTART;TZID=America/Los_Angeles:20240717T183000
DTEND;TZID=America/Los_Angeles:20240717T203000
DTSTAMP:20260422T195546
CREATED:20240610T000718Z
LAST-MODIFIED:20240610T001140Z
UID:10003245-1721241000-1721248200@www.lvtemple.org
SUMMARY:Pravachanam on Shiv Leela by Brahmasri Samavedam Shanmukha Sarma
DESCRIPTION:
URL:https://www.lvtemple.org/event/pravachanam-on-shiv-leela-by-brahmasri-samavedam-shanmukha-sarma/2024-07-17/
LOCATION:SVETA LV Temple\, Lakshmi Venkateswara Temple\, 18109 NE 76th St\, STE#105\, Redmond\, WA\, 98052\, United States
CATEGORIES:Cultural
ATTACH;FMTTYPE=image/jpeg:https://www.lvtemple.org/wp-content/uploads/2024/06/Event-Flyers_20240607_112530_0000.jpg
END:VEVENT
BEGIN:VEVENT
DTSTART;TZID=America/Los_Angeles:20240718T183000
DTEND;TZID=America/Los_Angeles:20240718T203000
DTSTAMP:20260422T195546
CREATED:20240610T000718Z
LAST-MODIFIED:20240610T001140Z
UID:10003246-1721327400-1721334600@www.lvtemple.org
SUMMARY:Pravachanam on Shiv Leela by Brahmasri Samavedam Shanmukha Sarma
DESCRIPTION:
URL:https://www.lvtemple.org/event/pravachanam-on-shiv-leela-by-brahmasri-samavedam-shanmukha-sarma/2024-07-18/
LOCATION:SVETA LV Temple\, Lakshmi Venkateswara Temple\, 18109 NE 76th St\, STE#105\, Redmond\, WA\, 98052\, United States
CATEGORIES:Cultural
ATTACH;FMTTYPE=image/jpeg:https://www.lvtemple.org/wp-content/uploads/2024/06/Event-Flyers_20240607_112530_0000.jpg
END:VEVENT
BEGIN:VEVENT
DTSTART;TZID=America/Los_Angeles:20240719T183000
DTEND;TZID=America/Los_Angeles:20240719T203000
DTSTAMP:20260422T195546
CREATED:20240610T000718Z
LAST-MODIFIED:20240610T001140Z
UID:10003247-1721413800-1721421000@www.lvtemple.org
SUMMARY:Pravachanam on Shiv Leela by Brahmasri Samavedam Shanmukha Sarma
DESCRIPTION:
URL:https://www.lvtemple.org/event/pravachanam-on-shiv-leela-by-brahmasri-samavedam-shanmukha-sarma/2024-07-19/
LOCATION:SVETA LV Temple\, Lakshmi Venkateswara Temple\, 18109 NE 76th St\, STE#105\, Redmond\, WA\, 98052\, United States
CATEGORIES:Cultural
ATTACH;FMTTYPE=image/jpeg:https://www.lvtemple.org/wp-content/uploads/2024/06/Event-Flyers_20240607_112530_0000.jpg
END:VEVENT
BEGIN:VEVENT
DTSTART;TZID=America/Los_Angeles:20240720T183000
DTEND;TZID=America/Los_Angeles:20240720T203000
DTSTAMP:20260422T195546
CREATED:20240610T000718Z
LAST-MODIFIED:20240610T001140Z
UID:10003248-1721500200-1721507400@www.lvtemple.org
SUMMARY:Pravachanam on Shiv Leela by Brahmasri Samavedam Shanmukha Sarma
DESCRIPTION:
URL:https://www.lvtemple.org/event/pravachanam-on-shiv-leela-by-brahmasri-samavedam-shanmukha-sarma/2024-07-20/
LOCATION:SVETA LV Temple\, Lakshmi Venkateswara Temple\, 18109 NE 76th St\, STE#105\, Redmond\, WA\, 98052\, United States
CATEGORIES:Cultural
ATTACH;FMTTYPE=image/jpeg:https://www.lvtemple.org/wp-content/uploads/2024/06/Event-Flyers_20240607_112530_0000.jpg
END:VEVENT
BEGIN:VEVENT
DTSTART;TZID=America/Los_Angeles:20240721T100000
DTEND;TZID=America/Los_Angeles:20240721T123000
DTSTAMP:20260422T195546
CREATED:20240610T000718Z
LAST-MODIFIED:20240610T001140Z
UID:10003249-1721556000-1721565000@www.lvtemple.org
SUMMARY:Pravachanam on Shiv Leela by Brahmasri Samavedam Shanmukha Sarma
DESCRIPTION:
URL:https://www.lvtemple.org/event/pravachanam-on-shiv-leela-by-brahmasri-samavedam-shanmukha-sarma/2024-07-21/
LOCATION:SVETA LV Temple\, Lakshmi Venkateswara Temple\, 18109 NE 76th St\, STE#105\, Redmond\, WA\, 98052\, United States
CATEGORIES:Cultural
ATTACH;FMTTYPE=image/jpeg:https://www.lvtemple.org/wp-content/uploads/2024/06/Event-Flyers_20240607_112530_0000.jpg
END:VEVENT
END:VCALENDAR