

BEGIN:VCALENDAR
VERSION:2.0
PRODID:-//Home - ECPv6.15.20//NONSGML v1.0//EN
CALSCALE:GREGORIAN
METHOD:PUBLISH
X-ORIGINAL-URL:https://www.lvtemple.org
X-WR-CALDESC:Events for Home
REFRESH-INTERVAL;VALUE=DURATION:PT1H
X-Robots-Tag:noindex
X-PUBLISHED-TTL:PT1H
BEGIN:VTIMEZONE
TZID:America/Los_Angeles
BEGIN:DAYLIGHT
TZOFFSETFROM:-0800
TZOFFSETTO:-0700
TZNAME:PDT
DTSTART:20230312T100000
END:DAYLIGHT
BEGIN:STANDARD
TZOFFSETFROM:-0700
TZOFFSETTO:-0800
TZNAME:PST
DTSTART:20231105T090000
END:STANDARD
BEGIN:DAYLIGHT
TZOFFSETFROM:-0800
TZOFFSETTO:-0700
TZNAME:PDT
DTSTART:20240310T100000
END:DAYLIGHT
BEGIN:STANDARD
TZOFFSETFROM:-0700
TZOFFSETTO:-0800
TZNAME:PST
DTSTART:20241103T090000
END:STANDARD
BEGIN:DAYLIGHT
TZOFFSETFROM:-0800
TZOFFSETTO:-0700
TZNAME:PDT
DTSTART:20250309T100000
END:DAYLIGHT
BEGIN:STANDARD
TZOFFSETFROM:-0700
TZOFFSETTO:-0800
TZNAME:PST
DTSTART:20251102T090000
END:STANDARD
END:VTIMEZONE
BEGIN:VEVENT
DTSTART;TZID=America/Los_Angeles:20240803T160000
DTEND;TZID=America/Los_Angeles:20240803T180000
DTSTAMP:20260422T183537
CREATED:20240801T035057Z
LAST-MODIFIED:20240801T035058Z
UID:10003630-1722700800-1722708000@www.lvtemple.org
SUMMARY:Veena and Flute Duet - FREE Concert
DESCRIPTION:
URL:https://www.lvtemple.org/event/veena-and-flute-duet-free-concert/
LOCATION:SVETA LV Temple\, Lakshmi Venkateswara Temple\, 18109 NE 76th St\, STE#105\, Redmond\, WA\, 98052\, United States
CATEGORIES:Cultural
ATTACH;FMTTYPE=image/jpeg:https://www.lvtemple.org/wp-content/uploads/2024/07/WhatsApp-Image-2024-07-31-at-3.55.24-PM-1.jpeg
END:VEVENT
BEGIN:VEVENT
DTSTART;TZID=America/Los_Angeles:20240810T183000
DTEND;TZID=America/Los_Angeles:20240810T203000
DTSTAMP:20260422T183537
CREATED:20240801T034858Z
LAST-MODIFIED:20240801T035508Z
UID:10003257-1723314600-1723321800@www.lvtemple.org
SUMMARY:Samskrutha Bhagavatha Sapthaham
DESCRIPTION:
URL:https://www.lvtemple.org/event/samskrutha-bhagavatha-sapthaham/2024-08-10/
LOCATION:SVETA LV Temple\, Lakshmi Venkateswara Temple\, 18109 NE 76th St\, STE#105\, Redmond\, WA\, 98052\, United States
CATEGORIES:Cultural
ATTACH;FMTTYPE=image/jpeg:https://www.lvtemple.org/wp-content/uploads/2024/07/WhatsApp-Image-2024-07-31-at-3.55.24-PM.jpeg
END:VEVENT
BEGIN:VEVENT
DTSTART;TZID=America/Los_Angeles:20240811T183000
DTEND;TZID=America/Los_Angeles:20240811T203000
DTSTAMP:20260422T183537
CREATED:20240801T034858Z
LAST-MODIFIED:20240801T035508Z
UID:10003258-1723401000-1723408200@www.lvtemple.org
SUMMARY:Samskrutha Bhagavatha Sapthaham
DESCRIPTION:
URL:https://www.lvtemple.org/event/samskrutha-bhagavatha-sapthaham/2024-08-11/
LOCATION:SVETA LV Temple\, Lakshmi Venkateswara Temple\, 18109 NE 76th St\, STE#105\, Redmond\, WA\, 98052\, United States
CATEGORIES:Cultural
ATTACH;FMTTYPE=image/jpeg:https://www.lvtemple.org/wp-content/uploads/2024/07/WhatsApp-Image-2024-07-31-at-3.55.24-PM.jpeg
END:VEVENT
BEGIN:VEVENT
DTSTART;TZID=America/Los_Angeles:20240812T183000
DTEND;TZID=America/Los_Angeles:20240812T203000
DTSTAMP:20260422T183537
CREATED:20240801T034858Z
LAST-MODIFIED:20240801T035508Z
UID:10003259-1723487400-1723494600@www.lvtemple.org
SUMMARY:Samskrutha Bhagavatha Sapthaham
DESCRIPTION:
URL:https://www.lvtemple.org/event/samskrutha-bhagavatha-sapthaham/2024-08-12/
LOCATION:SVETA LV Temple\, Lakshmi Venkateswara Temple\, 18109 NE 76th St\, STE#105\, Redmond\, WA\, 98052\, United States
CATEGORIES:Cultural
ATTACH;FMTTYPE=image/jpeg:https://www.lvtemple.org/wp-content/uploads/2024/07/WhatsApp-Image-2024-07-31-at-3.55.24-PM.jpeg
END:VEVENT
BEGIN:VEVENT
DTSTART;TZID=America/Los_Angeles:20240813T183000
DTEND;TZID=America/Los_Angeles:20240813T203000
DTSTAMP:20260422T183537
CREATED:20240801T034858Z
LAST-MODIFIED:20240801T035508Z
UID:10003260-1723573800-1723581000@www.lvtemple.org
SUMMARY:Samskrutha Bhagavatha Sapthaham
DESCRIPTION:
URL:https://www.lvtemple.org/event/samskrutha-bhagavatha-sapthaham/2024-08-13/
LOCATION:SVETA LV Temple\, Lakshmi Venkateswara Temple\, 18109 NE 76th St\, STE#105\, Redmond\, WA\, 98052\, United States
CATEGORIES:Cultural
ATTACH;FMTTYPE=image/jpeg:https://www.lvtemple.org/wp-content/uploads/2024/07/WhatsApp-Image-2024-07-31-at-3.55.24-PM.jpeg
END:VEVENT
BEGIN:VEVENT
DTSTART;TZID=America/Los_Angeles:20240814T183000
DTEND;TZID=America/Los_Angeles:20240814T203000
DTSTAMP:20260422T183537
CREATED:20240801T034858Z
LAST-MODIFIED:20240801T035508Z
UID:10003261-1723660200-1723667400@www.lvtemple.org
SUMMARY:Samskrutha Bhagavatha Sapthaham
DESCRIPTION:
URL:https://www.lvtemple.org/event/samskrutha-bhagavatha-sapthaham/2024-08-14/
LOCATION:SVETA LV Temple\, Lakshmi Venkateswara Temple\, 18109 NE 76th St\, STE#105\, Redmond\, WA\, 98052\, United States
CATEGORIES:Cultural
ATTACH;FMTTYPE=image/jpeg:https://www.lvtemple.org/wp-content/uploads/2024/07/WhatsApp-Image-2024-07-31-at-3.55.24-PM.jpeg
END:VEVENT
BEGIN:VEVENT
DTSTART;TZID=America/Los_Angeles:20240815T183000
DTEND;TZID=America/Los_Angeles:20240815T203000
DTSTAMP:20260422T183537
CREATED:20240801T034858Z
LAST-MODIFIED:20240801T035508Z
UID:10003262-1723746600-1723753800@www.lvtemple.org
SUMMARY:Samskrutha Bhagavatha Sapthaham
DESCRIPTION:
URL:https://www.lvtemple.org/event/samskrutha-bhagavatha-sapthaham/2024-08-15/
LOCATION:SVETA LV Temple\, Lakshmi Venkateswara Temple\, 18109 NE 76th St\, STE#105\, Redmond\, WA\, 98052\, United States
CATEGORIES:Cultural
ATTACH;FMTTYPE=image/jpeg:https://www.lvtemple.org/wp-content/uploads/2024/07/WhatsApp-Image-2024-07-31-at-3.55.24-PM.jpeg
END:VEVENT
BEGIN:VEVENT
DTSTART;TZID=America/Los_Angeles:20240816T183000
DTEND;TZID=America/Los_Angeles:20240816T203000
DTSTAMP:20260422T183537
CREATED:20240801T034858Z
LAST-MODIFIED:20240801T035508Z
UID:10003263-1723833000-1723840200@www.lvtemple.org
SUMMARY:Samskrutha Bhagavatha Sapthaham
DESCRIPTION:
URL:https://www.lvtemple.org/event/samskrutha-bhagavatha-sapthaham/2024-08-16/
LOCATION:SVETA LV Temple\, Lakshmi Venkateswara Temple\, 18109 NE 76th St\, STE#105\, Redmond\, WA\, 98052\, United States
CATEGORIES:Cultural
ATTACH;FMTTYPE=image/jpeg:https://www.lvtemple.org/wp-content/uploads/2024/07/WhatsApp-Image-2024-07-31-at-3.55.24-PM.jpeg
END:VEVENT
BEGIN:VEVENT
DTSTART;TZID=America/Los_Angeles:20240817T153000
DTEND;TZID=America/Los_Angeles:20240817T180000
DTSTAMP:20260422T183537
CREATED:20240811T163147Z
LAST-MODIFIED:20240811T163148Z
UID:10003632-1723908600-1723917600@www.lvtemple.org
SUMMARY:Carnatic Vocal Concert by Ranjani Sivakumar
DESCRIPTION:
URL:https://www.lvtemple.org/event/carnatic-vocal-concert-by-ranjani-sivakumar/
LOCATION:SVETA LV Temple\, Lakshmi Venkateswara Temple\, 18109 NE 76th St\, STE#105\, Redmond\, WA\, 98052\, United States
CATEGORIES:Cultural
ATTACH;FMTTYPE=image/jpeg:https://www.lvtemple.org/wp-content/uploads/2024/08/WhatsApp-Image-2024-08-11-at-9.23.30-AM.jpeg
END:VEVENT
BEGIN:VEVENT
DTSTART;TZID=America/Los_Angeles:20240817T183000
DTEND;TZID=America/Los_Angeles:20240817T203000
DTSTAMP:20260422T183537
CREATED:20240801T034858Z
LAST-MODIFIED:20240801T035508Z
UID:10003264-1723919400-1723926600@www.lvtemple.org
SUMMARY:Samskrutha Bhagavatha Sapthaham
DESCRIPTION:
URL:https://www.lvtemple.org/event/samskrutha-bhagavatha-sapthaham/2024-08-17/
LOCATION:SVETA LV Temple\, Lakshmi Venkateswara Temple\, 18109 NE 76th St\, STE#105\, Redmond\, WA\, 98052\, United States
CATEGORIES:Cultural
ATTACH;FMTTYPE=image/jpeg:https://www.lvtemple.org/wp-content/uploads/2024/07/WhatsApp-Image-2024-07-31-at-3.55.24-PM.jpeg
END:VEVENT
BEGIN:VEVENT
DTSTART;TZID=America/Los_Angeles:20240818T153000
DTEND;TZID=America/Los_Angeles:20240818T180000
DTSTAMP:20260422T183537
CREATED:20240811T163302Z
LAST-MODIFIED:20240811T163419Z
UID:10003633-1723995000-1724004000@www.lvtemple.org
SUMMARY:Carnatic Vocal Concert by C.S. Sajeev
DESCRIPTION:
URL:https://www.lvtemple.org/event/carnatic-vocal-concert-by-c-s-sajeev/
LOCATION:SVETA LV Temple\, Lakshmi Venkateswara Temple\, 18109 NE 76th St\, STE#105\, Redmond\, WA\, 98052\, United States
CATEGORIES:Cultural
ATTACH;FMTTYPE=image/jpeg:https://www.lvtemple.org/wp-content/uploads/2024/08/WhatsApp-Image-2024-08-11-at-9.24.41-AM.jpeg
END:VEVENT
END:VCALENDAR