

BEGIN:VCALENDAR
VERSION:2.0
PRODID:-//Home - ECPv6.15.20//NONSGML v1.0//EN
CALSCALE:GREGORIAN
METHOD:PUBLISH
X-WR-CALNAME:Home
X-ORIGINAL-URL:https://www.lvtemple.org
X-WR-CALDESC:Events for Home
REFRESH-INTERVAL;VALUE=DURATION:PT1H
X-Robots-Tag:noindex
X-PUBLISHED-TTL:PT1H
BEGIN:VTIMEZONE
TZID:America/Los_Angeles
BEGIN:DAYLIGHT
TZOFFSETFROM:-0800
TZOFFSETTO:-0700
TZNAME:PDT
DTSTART:20240310T100000
END:DAYLIGHT
BEGIN:STANDARD
TZOFFSETFROM:-0700
TZOFFSETTO:-0800
TZNAME:PST
DTSTART:20241103T090000
END:STANDARD
BEGIN:DAYLIGHT
TZOFFSETFROM:-0800
TZOFFSETTO:-0700
TZNAME:PDT
DTSTART:20250309T100000
END:DAYLIGHT
BEGIN:STANDARD
TZOFFSETFROM:-0700
TZOFFSETTO:-0800
TZNAME:PST
DTSTART:20251102T090000
END:STANDARD
BEGIN:DAYLIGHT
TZOFFSETFROM:-0800
TZOFFSETTO:-0700
TZNAME:PDT
DTSTART:20260308T100000
END:DAYLIGHT
BEGIN:STANDARD
TZOFFSETFROM:-0700
TZOFFSETTO:-0800
TZNAME:PST
DTSTART:20261101T090000
END:STANDARD
END:VTIMEZONE
BEGIN:VEVENT
DTSTART;TZID=America/Los_Angeles:20250502T180000
DTEND;TZID=America/Los_Angeles:20250502T210000
DTSTAMP:20260422T001846
CREATED:20250415T000445Z
LAST-MODIFIED:20250415T000445Z
UID:10004021-1746208800-1746219600@www.lvtemple.org
SUMMARY:Swami Mukundananda - 7 divine laws to awaken your best self
DESCRIPTION:
URL:https://www.lvtemple.org/event/swami-mukundananda-7-divine-laws-to-awaken-your-best-self/2025-05-02/
LOCATION:SVETA LV Temple\, Lakshmi Venkateswara Temple\, 18109 NE 76th St\, STE#105\, Redmond\, WA\, 98052\, United States
CATEGORIES:Cultural
ATTACH;FMTTYPE=image/jpeg:https://www.lvtemple.org/wp-content/uploads/2025/04/IMG_4482.jpeg
END:VEVENT
BEGIN:VEVENT
DTSTART;TZID=America/Los_Angeles:20250503T160000
DTEND;TZID=America/Los_Angeles:20250503T190000
DTSTAMP:20260422T001846
CREATED:20250415T000445Z
LAST-MODIFIED:20250415T000445Z
UID:10004022-1746288000-1746298800@www.lvtemple.org
SUMMARY:Swami Mukundananda - 7 divine laws to awaken your best self
DESCRIPTION:
URL:https://www.lvtemple.org/event/swami-mukundananda-7-divine-laws-to-awaken-your-best-self/2025-05-03/
LOCATION:SVETA LV Temple\, Lakshmi Venkateswara Temple\, 18109 NE 76th St\, STE#105\, Redmond\, WA\, 98052\, United States
CATEGORIES:Cultural
ATTACH;FMTTYPE=image/jpeg:https://www.lvtemple.org/wp-content/uploads/2025/04/IMG_4482.jpeg
END:VEVENT
BEGIN:VEVENT
DTSTART;TZID=America/Los_Angeles:20250504T160000
DTEND;TZID=America/Los_Angeles:20250504T190000
DTSTAMP:20260422T001846
CREATED:20250415T000445Z
LAST-MODIFIED:20250415T000445Z
UID:10004023-1746374400-1746385200@www.lvtemple.org
SUMMARY:Swami Mukundananda - 7 divine laws to awaken your best self
DESCRIPTION:
URL:https://www.lvtemple.org/event/swami-mukundananda-7-divine-laws-to-awaken-your-best-self/2025-05-04/
LOCATION:SVETA LV Temple\, Lakshmi Venkateswara Temple\, 18109 NE 76th St\, STE#105\, Redmond\, WA\, 98052\, United States
CATEGORIES:Cultural
ATTACH;FMTTYPE=image/jpeg:https://www.lvtemple.org/wp-content/uploads/2025/04/IMG_4482.jpeg
END:VEVENT
BEGIN:VEVENT
DTSTART;TZID=America/Los_Angeles:20250505T180000
DTEND;TZID=America/Los_Angeles:20250505T210000
DTSTAMP:20260422T001846
CREATED:20250415T000445Z
LAST-MODIFIED:20250415T000445Z
UID:10004024-1746468000-1746478800@www.lvtemple.org
SUMMARY:Swami Mukundananda - 7 divine laws to awaken your best self
DESCRIPTION:
URL:https://www.lvtemple.org/event/swami-mukundananda-7-divine-laws-to-awaken-your-best-self/2025-05-05/
LOCATION:SVETA LV Temple\, Lakshmi Venkateswara Temple\, 18109 NE 76th St\, STE#105\, Redmond\, WA\, 98052\, United States
CATEGORIES:Cultural
ATTACH;FMTTYPE=image/jpeg:https://www.lvtemple.org/wp-content/uploads/2025/04/IMG_4482.jpeg
END:VEVENT
BEGIN:VEVENT
DTSTART;TZID=America/Los_Angeles:20250506T180000
DTEND;TZID=America/Los_Angeles:20250506T210000
DTSTAMP:20260422T001846
CREATED:20250415T000445Z
LAST-MODIFIED:20250415T000445Z
UID:10004025-1746554400-1746565200@www.lvtemple.org
SUMMARY:Swami Mukundananda - 7 divine laws to awaken your best self
DESCRIPTION:
URL:https://www.lvtemple.org/event/swami-mukundananda-7-divine-laws-to-awaken-your-best-self/2025-05-06/
LOCATION:SVETA LV Temple\, Lakshmi Venkateswara Temple\, 18109 NE 76th St\, STE#105\, Redmond\, WA\, 98052\, United States
CATEGORIES:Cultural
ATTACH;FMTTYPE=image/jpeg:https://www.lvtemple.org/wp-content/uploads/2025/04/IMG_4482.jpeg
END:VEVENT
BEGIN:VEVENT
DTSTART;TZID=America/Los_Angeles:20250507T180000
DTEND;TZID=America/Los_Angeles:20250507T210000
DTSTAMP:20260422T001846
CREATED:20250415T000445Z
LAST-MODIFIED:20250415T000445Z
UID:10004026-1746640800-1746651600@www.lvtemple.org
SUMMARY:Swami Mukundananda - 7 divine laws to awaken your best self
DESCRIPTION:
URL:https://www.lvtemple.org/event/swami-mukundananda-7-divine-laws-to-awaken-your-best-self/2025-05-07/
LOCATION:SVETA LV Temple\, Lakshmi Venkateswara Temple\, 18109 NE 76th St\, STE#105\, Redmond\, WA\, 98052\, United States
CATEGORIES:Cultural
ATTACH;FMTTYPE=image/jpeg:https://www.lvtemple.org/wp-content/uploads/2025/04/IMG_4482.jpeg
END:VEVENT
BEGIN:VEVENT
DTSTART;TZID=America/Los_Angeles:20250510T160000
DTEND;TZID=America/Los_Angeles:20250510T180000
DTSTAMP:20260422T001846
CREATED:20250409T032159Z
LAST-MODIFIED:20250409T032200Z
UID:10004017-1746892800-1746900000@www.lvtemple.org
SUMMARY:Carnatic Flute Concert
DESCRIPTION:
URL:https://www.lvtemple.org/event/carnatic-flute-concert/
LOCATION:WA
CATEGORIES:Cultural
ATTACH;FMTTYPE=image/jpeg:https://www.lvtemple.org/wp-content/uploads/2025/04/WhatsApp-Image-2025-04-07-at-5.56.57-PM.jpeg
END:VEVENT
BEGIN:VEVENT
DTSTART;TZID=America/Los_Angeles:20250517T160000
DTEND;TZID=America/Los_Angeles:20250517T180000
DTSTAMP:20260422T001846
CREATED:20250406T022110Z
LAST-MODIFIED:20250517T210043Z
UID:10004014-1747497600-1747504800@www.lvtemple.org
SUMMARY:Carnatic Vocal Concert
DESCRIPTION:“Due to unforeseen circumstances\, Vid Raghava Chary left for India earlier this week. May 17 concert will be a violin solo concert by Vid VVS Murari\, accompanied by Vid. Ethirajan Ramanujan on mridangam and Vid. Alathur T. Rajaganesh on kanjira. All are welcome. No ticket charge.”
URL:https://www.lvtemple.org/event/carnatic-vocal-concert-2/
LOCATION:SVETA LV Temple\, Lakshmi Venkateswara Temple\, 18109 NE 76th St\, STE#105\, Redmond\, WA\, 98052\, United States
CATEGORIES:Cultural
ATTACH;FMTTYPE=image/jpeg:https://www.lvtemple.org/wp-content/uploads/2025/04/63e4dc7d-426c-4c7c-a414-c6316b0a6d80.jpeg
END:VEVENT
END:VCALENDAR