

BEGIN:VCALENDAR
VERSION:2.0
PRODID:-//Home - ECPv6.15.20//NONSGML v1.0//EN
CALSCALE:GREGORIAN
METHOD:PUBLISH
X-WR-CALNAME:Home
X-ORIGINAL-URL:https://www.lvtemple.org
X-WR-CALDESC:Events for Home
REFRESH-INTERVAL;VALUE=DURATION:PT1H
X-Robots-Tag:noindex
X-PUBLISHED-TTL:PT1H
BEGIN:VTIMEZONE
TZID:America/Los_Angeles
BEGIN:DAYLIGHT
TZOFFSETFROM:-0800
TZOFFSETTO:-0700
TZNAME:PDT
DTSTART:20230312T100000
END:DAYLIGHT
BEGIN:STANDARD
TZOFFSETFROM:-0700
TZOFFSETTO:-0800
TZNAME:PST
DTSTART:20231105T090000
END:STANDARD
BEGIN:DAYLIGHT
TZOFFSETFROM:-0800
TZOFFSETTO:-0700
TZNAME:PDT
DTSTART:20240310T100000
END:DAYLIGHT
BEGIN:STANDARD
TZOFFSETFROM:-0700
TZOFFSETTO:-0800
TZNAME:PST
DTSTART:20241103T090000
END:STANDARD
BEGIN:DAYLIGHT
TZOFFSETFROM:-0800
TZOFFSETTO:-0700
TZNAME:PDT
DTSTART:20250309T100000
END:DAYLIGHT
BEGIN:STANDARD
TZOFFSETFROM:-0700
TZOFFSETTO:-0800
TZNAME:PST
DTSTART:20251102T090000
END:STANDARD
END:VTIMEZONE
BEGIN:VEVENT
DTSTART;TZID=America/Los_Angeles:20241103T194500
DTEND;TZID=America/Los_Angeles:20241103T201500
DTSTAMP:20260422T170231
CREATED:20241021T035713Z
LAST-MODIFIED:20241021T035713Z
UID:10003722-1730663100-1730664900@www.lvtemple.org
SUMMARY:Cultural festival of  Kartikamasa
DESCRIPTION:
URL:https://www.lvtemple.org/event/cultural-festival-of-kartikamasa/2024-11-03/
LOCATION:SVETA LV Temple\, Lakshmi Venkateswara Temple\, 18109 NE 76th St\, STE#105\, Redmond\, WA\, 98052\, United States
CATEGORIES:Cultural
ATTACH;FMTTYPE=image/png:https://www.lvtemple.org/wp-content/uploads/2024/10/Event-Flyers-71-1.png
END:VEVENT
BEGIN:VEVENT
DTSTART;TZID=America/Los_Angeles:20241104T194500
DTEND;TZID=America/Los_Angeles:20241104T201500
DTSTAMP:20260422T170231
CREATED:20241021T035713Z
LAST-MODIFIED:20241021T035713Z
UID:10003723-1730749500-1730751300@www.lvtemple.org
SUMMARY:Cultural festival of  Kartikamasa
DESCRIPTION:
URL:https://www.lvtemple.org/event/cultural-festival-of-kartikamasa/2024-11-04/
LOCATION:SVETA LV Temple\, Lakshmi Venkateswara Temple\, 18109 NE 76th St\, STE#105\, Redmond\, WA\, 98052\, United States
CATEGORIES:Cultural
ATTACH;FMTTYPE=image/png:https://www.lvtemple.org/wp-content/uploads/2024/10/Event-Flyers-71-1.png
END:VEVENT
BEGIN:VEVENT
DTSTART;TZID=America/Los_Angeles:20241105T194500
DTEND;TZID=America/Los_Angeles:20241105T201500
DTSTAMP:20260422T170231
CREATED:20241021T035713Z
LAST-MODIFIED:20241021T035713Z
UID:10003724-1730835900-1730837700@www.lvtemple.org
SUMMARY:Cultural festival of  Kartikamasa
DESCRIPTION:
URL:https://www.lvtemple.org/event/cultural-festival-of-kartikamasa/2024-11-05/
LOCATION:SVETA LV Temple\, Lakshmi Venkateswara Temple\, 18109 NE 76th St\, STE#105\, Redmond\, WA\, 98052\, United States
CATEGORIES:Cultural
ATTACH;FMTTYPE=image/png:https://www.lvtemple.org/wp-content/uploads/2024/10/Event-Flyers-71-1.png
END:VEVENT
BEGIN:VEVENT
DTSTART;TZID=America/Los_Angeles:20241106T194500
DTEND;TZID=America/Los_Angeles:20241106T201500
DTSTAMP:20260422T170231
CREATED:20241021T035713Z
LAST-MODIFIED:20241021T035713Z
UID:10003725-1730922300-1730924100@www.lvtemple.org
SUMMARY:Cultural festival of  Kartikamasa
DESCRIPTION:
URL:https://www.lvtemple.org/event/cultural-festival-of-kartikamasa/2024-11-06/
LOCATION:SVETA LV Temple\, Lakshmi Venkateswara Temple\, 18109 NE 76th St\, STE#105\, Redmond\, WA\, 98052\, United States
CATEGORIES:Cultural
ATTACH;FMTTYPE=image/png:https://www.lvtemple.org/wp-content/uploads/2024/10/Event-Flyers-71-1.png
END:VEVENT
BEGIN:VEVENT
DTSTART;TZID=America/Los_Angeles:20241107T194500
DTEND;TZID=America/Los_Angeles:20241107T201500
DTSTAMP:20260422T170231
CREATED:20241021T035713Z
LAST-MODIFIED:20241021T035713Z
UID:10003726-1731008700-1731010500@www.lvtemple.org
SUMMARY:Cultural festival of  Kartikamasa
DESCRIPTION:
URL:https://www.lvtemple.org/event/cultural-festival-of-kartikamasa/2024-11-07/
LOCATION:SVETA LV Temple\, Lakshmi Venkateswara Temple\, 18109 NE 76th St\, STE#105\, Redmond\, WA\, 98052\, United States
CATEGORIES:Cultural
ATTACH;FMTTYPE=image/png:https://www.lvtemple.org/wp-content/uploads/2024/10/Event-Flyers-71-1.png
END:VEVENT
BEGIN:VEVENT
DTSTART;TZID=America/Los_Angeles:20241108T194500
DTEND;TZID=America/Los_Angeles:20241108T201500
DTSTAMP:20260422T170231
CREATED:20241021T035713Z
LAST-MODIFIED:20241021T035713Z
UID:10003727-1731095100-1731096900@www.lvtemple.org
SUMMARY:Cultural festival of  Kartikamasa
DESCRIPTION:
URL:https://www.lvtemple.org/event/cultural-festival-of-kartikamasa/2024-11-08/
LOCATION:SVETA LV Temple\, Lakshmi Venkateswara Temple\, 18109 NE 76th St\, STE#105\, Redmond\, WA\, 98052\, United States
CATEGORIES:Cultural
ATTACH;FMTTYPE=image/png:https://www.lvtemple.org/wp-content/uploads/2024/10/Event-Flyers-71-1.png
END:VEVENT
BEGIN:VEVENT
DTSTART;TZID=America/Los_Angeles:20241109T194500
DTEND;TZID=America/Los_Angeles:20241109T201500
DTSTAMP:20260422T170231
CREATED:20241021T035713Z
LAST-MODIFIED:20241021T035713Z
UID:10003728-1731181500-1731183300@www.lvtemple.org
SUMMARY:Cultural festival of  Kartikamasa
DESCRIPTION:
URL:https://www.lvtemple.org/event/cultural-festival-of-kartikamasa/2024-11-09/
LOCATION:SVETA LV Temple\, Lakshmi Venkateswara Temple\, 18109 NE 76th St\, STE#105\, Redmond\, WA\, 98052\, United States
CATEGORIES:Cultural
ATTACH;FMTTYPE=image/png:https://www.lvtemple.org/wp-content/uploads/2024/10/Event-Flyers-71-1.png
END:VEVENT
END:VCALENDAR