

BEGIN:VCALENDAR
VERSION:2.0
PRODID:-//Home - ECPv6.15.20//NONSGML v1.0//EN
CALSCALE:GREGORIAN
METHOD:PUBLISH
X-WR-CALNAME:Home
X-ORIGINAL-URL:https://www.lvtemple.org
X-WR-CALDESC:Events for Home
REFRESH-INTERVAL;VALUE=DURATION:PT1H
X-Robots-Tag:noindex
X-PUBLISHED-TTL:PT1H
BEGIN:VTIMEZONE
TZID:America/Los_Angeles
BEGIN:DAYLIGHT
TZOFFSETFROM:-0800
TZOFFSETTO:-0700
TZNAME:PDT
DTSTART:20230312T100000
END:DAYLIGHT
BEGIN:STANDARD
TZOFFSETFROM:-0700
TZOFFSETTO:-0800
TZNAME:PST
DTSTART:20231105T090000
END:STANDARD
BEGIN:DAYLIGHT
TZOFFSETFROM:-0800
TZOFFSETTO:-0700
TZNAME:PDT
DTSTART:20240310T100000
END:DAYLIGHT
BEGIN:STANDARD
TZOFFSETFROM:-0700
TZOFFSETTO:-0800
TZNAME:PST
DTSTART:20241103T090000
END:STANDARD
BEGIN:DAYLIGHT
TZOFFSETFROM:-0800
TZOFFSETTO:-0700
TZNAME:PDT
DTSTART:20250309T100000
END:DAYLIGHT
BEGIN:STANDARD
TZOFFSETFROM:-0700
TZOFFSETTO:-0800
TZNAME:PST
DTSTART:20251102T090000
END:STANDARD
END:VTIMEZONE
BEGIN:VEVENT
DTSTART;TZID=America/Los_Angeles:20241117T194500
DTEND;TZID=America/Los_Angeles:20241117T201500
DTSTAMP:20260422T170155
CREATED:20241021T035713Z
LAST-MODIFIED:20241021T035713Z
UID:10003736-1731872700-1731874500@www.lvtemple.org
SUMMARY:Cultural festival of  Kartikamasa
DESCRIPTION:
URL:https://www.lvtemple.org/event/cultural-festival-of-kartikamasa/2024-11-17/
LOCATION:SVETA LV Temple\, Lakshmi Venkateswara Temple\, 18109 NE 76th St\, STE#105\, Redmond\, WA\, 98052\, United States
CATEGORIES:Cultural
ATTACH;FMTTYPE=image/png:https://www.lvtemple.org/wp-content/uploads/2024/10/Event-Flyers-71-1.png
END:VEVENT
BEGIN:VEVENT
DTSTART;TZID=America/Los_Angeles:20241118T194500
DTEND;TZID=America/Los_Angeles:20241118T201500
DTSTAMP:20260422T170155
CREATED:20241021T035713Z
LAST-MODIFIED:20241021T035713Z
UID:10003737-1731959100-1731960900@www.lvtemple.org
SUMMARY:Cultural festival of  Kartikamasa
DESCRIPTION:
URL:https://www.lvtemple.org/event/cultural-festival-of-kartikamasa/2024-11-18/
LOCATION:SVETA LV Temple\, Lakshmi Venkateswara Temple\, 18109 NE 76th St\, STE#105\, Redmond\, WA\, 98052\, United States
CATEGORIES:Cultural
ATTACH;FMTTYPE=image/png:https://www.lvtemple.org/wp-content/uploads/2024/10/Event-Flyers-71-1.png
END:VEVENT
BEGIN:VEVENT
DTSTART;TZID=America/Los_Angeles:20241119T194500
DTEND;TZID=America/Los_Angeles:20241119T201500
DTSTAMP:20260422T170155
CREATED:20241021T035713Z
LAST-MODIFIED:20241021T035713Z
UID:10003738-1732045500-1732047300@www.lvtemple.org
SUMMARY:Cultural festival of  Kartikamasa
DESCRIPTION:
URL:https://www.lvtemple.org/event/cultural-festival-of-kartikamasa/2024-11-19/
LOCATION:SVETA LV Temple\, Lakshmi Venkateswara Temple\, 18109 NE 76th St\, STE#105\, Redmond\, WA\, 98052\, United States
CATEGORIES:Cultural
ATTACH;FMTTYPE=image/png:https://www.lvtemple.org/wp-content/uploads/2024/10/Event-Flyers-71-1.png
END:VEVENT
BEGIN:VEVENT
DTSTART;TZID=America/Los_Angeles:20241120T194500
DTEND;TZID=America/Los_Angeles:20241120T201500
DTSTAMP:20260422T170155
CREATED:20241021T035713Z
LAST-MODIFIED:20241021T035713Z
UID:10003739-1732131900-1732133700@www.lvtemple.org
SUMMARY:Cultural festival of  Kartikamasa
DESCRIPTION:
URL:https://www.lvtemple.org/event/cultural-festival-of-kartikamasa/2024-11-20/
LOCATION:SVETA LV Temple\, Lakshmi Venkateswara Temple\, 18109 NE 76th St\, STE#105\, Redmond\, WA\, 98052\, United States
CATEGORIES:Cultural
ATTACH;FMTTYPE=image/png:https://www.lvtemple.org/wp-content/uploads/2024/10/Event-Flyers-71-1.png
END:VEVENT
BEGIN:VEVENT
DTSTART;TZID=America/Los_Angeles:20241121T194500
DTEND;TZID=America/Los_Angeles:20241121T201500
DTSTAMP:20260422T170155
CREATED:20241021T035713Z
LAST-MODIFIED:20241021T035713Z
UID:10003740-1732218300-1732220100@www.lvtemple.org
SUMMARY:Cultural festival of  Kartikamasa
DESCRIPTION:
URL:https://www.lvtemple.org/event/cultural-festival-of-kartikamasa/2024-11-21/
LOCATION:SVETA LV Temple\, Lakshmi Venkateswara Temple\, 18109 NE 76th St\, STE#105\, Redmond\, WA\, 98052\, United States
CATEGORIES:Cultural
ATTACH;FMTTYPE=image/png:https://www.lvtemple.org/wp-content/uploads/2024/10/Event-Flyers-71-1.png
END:VEVENT
BEGIN:VEVENT
DTSTART;TZID=America/Los_Angeles:20241122T194500
DTEND;TZID=America/Los_Angeles:20241122T201500
DTSTAMP:20260422T170155
CREATED:20241021T035713Z
LAST-MODIFIED:20241021T035713Z
UID:10003741-1732304700-1732306500@www.lvtemple.org
SUMMARY:Cultural festival of  Kartikamasa
DESCRIPTION:
URL:https://www.lvtemple.org/event/cultural-festival-of-kartikamasa/2024-11-22/
LOCATION:SVETA LV Temple\, Lakshmi Venkateswara Temple\, 18109 NE 76th St\, STE#105\, Redmond\, WA\, 98052\, United States
CATEGORIES:Cultural
ATTACH;FMTTYPE=image/png:https://www.lvtemple.org/wp-content/uploads/2024/10/Event-Flyers-71-1.png
END:VEVENT
BEGIN:VEVENT
DTSTART;TZID=America/Los_Angeles:20241123T194500
DTEND;TZID=America/Los_Angeles:20241123T201500
DTSTAMP:20260422T170155
CREATED:20241021T035713Z
LAST-MODIFIED:20241021T035713Z
UID:10003742-1732391100-1732392900@www.lvtemple.org
SUMMARY:Cultural festival of  Kartikamasa
DESCRIPTION:
URL:https://www.lvtemple.org/event/cultural-festival-of-kartikamasa/2024-11-23/
LOCATION:SVETA LV Temple\, Lakshmi Venkateswara Temple\, 18109 NE 76th St\, STE#105\, Redmond\, WA\, 98052\, United States
CATEGORIES:Cultural
ATTACH;FMTTYPE=image/png:https://www.lvtemple.org/wp-content/uploads/2024/10/Event-Flyers-71-1.png
END:VEVENT
END:VCALENDAR