

BEGIN:VCALENDAR
VERSION:2.0
PRODID:-//Home - ECPv6.15.20//NONSGML v1.0//EN
CALSCALE:GREGORIAN
METHOD:PUBLISH
X-WR-CALNAME:Home
X-ORIGINAL-URL:https://www.lvtemple.org
X-WR-CALDESC:Events for Home
REFRESH-INTERVAL;VALUE=DURATION:PT1H
X-Robots-Tag:noindex
X-PUBLISHED-TTL:PT1H
BEGIN:VTIMEZONE
TZID:America/Los_Angeles
BEGIN:DAYLIGHT
TZOFFSETFROM:-0800
TZOFFSETTO:-0700
TZNAME:PDT
DTSTART:20240310T100000
END:DAYLIGHT
BEGIN:STANDARD
TZOFFSETFROM:-0700
TZOFFSETTO:-0800
TZNAME:PST
DTSTART:20241103T090000
END:STANDARD
BEGIN:DAYLIGHT
TZOFFSETFROM:-0800
TZOFFSETTO:-0700
TZNAME:PDT
DTSTART:20250309T100000
END:DAYLIGHT
BEGIN:STANDARD
TZOFFSETFROM:-0700
TZOFFSETTO:-0800
TZNAME:PST
DTSTART:20251102T090000
END:STANDARD
BEGIN:DAYLIGHT
TZOFFSETFROM:-0800
TZOFFSETTO:-0700
TZNAME:PDT
DTSTART:20260308T100000
END:DAYLIGHT
BEGIN:STANDARD
TZOFFSETFROM:-0700
TZOFFSETTO:-0800
TZNAME:PST
DTSTART:20261101T090000
END:STANDARD
END:VTIMEZONE
BEGIN:VEVENT
DTSTART;TZID=America/Los_Angeles:20250330T170000
DTEND;TZID=America/Los_Angeles:20250330T180000
DTSTAMP:20260422T033539
CREATED:20250315T160404Z
LAST-MODIFIED:20250315T160404Z
UID:10004007-1743354000-1743357600@www.lvtemple.org
SUMMARY:Rama Gana Sabha worship of Lord Rama with Music and Dance
DESCRIPTION:
URL:https://www.lvtemple.org/event/rama-gana-sabha-worship-of-lord-rama-with-music-and-dance/2025-03-30/
LOCATION:SVETA LV Temple\, Lakshmi Venkateswara Temple\, 18109 NE 76th St\, STE#105\, Redmond\, WA\, 98052\, United States
CATEGORIES:Cultural
ATTACH;FMTTYPE=image/png:https://www.lvtemple.org/wp-content/uploads/2025/03/Event-Flyers-85.png
END:VEVENT
END:VCALENDAR