

BEGIN:VCALENDAR
VERSION:2.0
PRODID:-//Home - ECPv6.15.20//NONSGML v1.0//EN
CALSCALE:GREGORIAN
METHOD:PUBLISH
X-WR-CALNAME:Home
X-ORIGINAL-URL:https://www.lvtemple.org
X-WR-CALDESC:Events for Home
REFRESH-INTERVAL;VALUE=DURATION:PT1H
X-Robots-Tag:noindex
X-PUBLISHED-TTL:PT1H
BEGIN:VTIMEZONE
TZID:America/Los_Angeles
BEGIN:DAYLIGHT
TZOFFSETFROM:-0800
TZOFFSETTO:-0700
TZNAME:PDT
DTSTART:20240310T100000
END:DAYLIGHT
BEGIN:STANDARD
TZOFFSETFROM:-0700
TZOFFSETTO:-0800
TZNAME:PST
DTSTART:20241103T090000
END:STANDARD
BEGIN:DAYLIGHT
TZOFFSETFROM:-0800
TZOFFSETTO:-0700
TZNAME:PDT
DTSTART:20250309T100000
END:DAYLIGHT
BEGIN:STANDARD
TZOFFSETFROM:-0700
TZOFFSETTO:-0800
TZNAME:PST
DTSTART:20251102T090000
END:STANDARD
BEGIN:DAYLIGHT
TZOFFSETFROM:-0800
TZOFFSETTO:-0700
TZNAME:PDT
DTSTART:20260308T100000
END:DAYLIGHT
BEGIN:STANDARD
TZOFFSETFROM:-0700
TZOFFSETTO:-0800
TZNAME:PST
DTSTART:20261101T090000
END:STANDARD
END:VTIMEZONE
BEGIN:VEVENT
DTSTART;TZID=America/Los_Angeles:20251116T150000
DTEND;TZID=America/Los_Angeles:20251116T170000
DTSTAMP:20260421T183618
CREATED:20251012T225833Z
LAST-MODIFIED:20251012T225833Z
UID:10004517-1763305200-1763312400@www.lvtemple.org
SUMMARY:Annamacharya Kriti Workshop
DESCRIPTION:
URL:https://www.lvtemple.org/event/annamacharya-kriti-workshop/2025-11-16/
LOCATION:SVETA LV Temple\, Lakshmi Venkateswara Temple\, 18109 NE 76th St\, STE#105\, Redmond\, WA\, 98052\, United States
CATEGORIES:Cultural
ATTACH;FMTTYPE=image/jpeg:https://www.lvtemple.org/wp-content/uploads/2025/10/7695b2eb-e038-4ea0-918a-b63aa1ea5464.jpeg
END:VEVENT
BEGIN:VEVENT
DTSTART;TZID=America/Los_Angeles:20251116T180000
DTEND;TZID=America/Los_Angeles:20251116T190000
DTSTAMP:20260421T183618
CREATED:20251009T035335Z
LAST-MODIFIED:20251009T035335Z
UID:10004479-1763316000-1763319600@www.lvtemple.org
SUMMARY:Cultural Festival of Karthika Masa
DESCRIPTION:
URL:https://www.lvtemple.org/event/cultural-festival-of-karthika-masa-2/2025-11-16/
LOCATION:SVETA LV Temple\, Lakshmi Venkateswara Temple\, 18109 NE 76th St\, STE#105\, Redmond\, WA\, 98052\, United States
CATEGORIES:Cultural
ATTACH;FMTTYPE=image/jpeg:https://www.lvtemple.org/wp-content/uploads/2025/10/WhatsApp-Image-2025-10-08-at-8.05.49-PM.jpeg
END:VEVENT
BEGIN:VEVENT
DTSTART;TZID=America/Los_Angeles:20251117T193000
DTEND;TZID=America/Los_Angeles:20251117T200000
DTSTAMP:20260421T183618
CREATED:20251009T035057Z
LAST-MODIFIED:20251009T035058Z
UID:10004469-1763407800-1763409600@www.lvtemple.org
SUMMARY:Cultural Festival of Karthika Masa
DESCRIPTION:
URL:https://www.lvtemple.org/event/cultural-festival-of-karthika-masa/2025-11-17/
LOCATION:SVETA LV Temple\, Lakshmi Venkateswara Temple\, 18109 NE 76th St\, STE#105\, Redmond\, WA\, 98052\, United States
CATEGORIES:Cultural
ATTACH;FMTTYPE=image/jpeg:https://www.lvtemple.org/wp-content/uploads/2025/10/WhatsApp-Image-2025-10-08-at-8.05.49-PM.jpeg
END:VEVENT
BEGIN:VEVENT
DTSTART;TZID=America/Los_Angeles:20251118T193000
DTEND;TZID=America/Los_Angeles:20251118T200000
DTSTAMP:20260421T183618
CREATED:20251009T035057Z
LAST-MODIFIED:20251009T035058Z
UID:10004470-1763494200-1763496000@www.lvtemple.org
SUMMARY:Cultural Festival of Karthika Masa
DESCRIPTION:
URL:https://www.lvtemple.org/event/cultural-festival-of-karthika-masa/2025-11-18/
LOCATION:SVETA LV Temple\, Lakshmi Venkateswara Temple\, 18109 NE 76th St\, STE#105\, Redmond\, WA\, 98052\, United States
CATEGORIES:Cultural
ATTACH;FMTTYPE=image/jpeg:https://www.lvtemple.org/wp-content/uploads/2025/10/WhatsApp-Image-2025-10-08-at-8.05.49-PM.jpeg
END:VEVENT
BEGIN:VEVENT
DTSTART;TZID=America/Los_Angeles:20251119T193000
DTEND;TZID=America/Los_Angeles:20251119T200000
DTSTAMP:20260421T183618
CREATED:20251009T035057Z
LAST-MODIFIED:20251009T035058Z
UID:10004471-1763580600-1763582400@www.lvtemple.org
SUMMARY:Cultural Festival of Karthika Masa
DESCRIPTION:
URL:https://www.lvtemple.org/event/cultural-festival-of-karthika-masa/2025-11-19/
LOCATION:SVETA LV Temple\, Lakshmi Venkateswara Temple\, 18109 NE 76th St\, STE#105\, Redmond\, WA\, 98052\, United States
CATEGORIES:Cultural
ATTACH;FMTTYPE=image/jpeg:https://www.lvtemple.org/wp-content/uploads/2025/10/WhatsApp-Image-2025-10-08-at-8.05.49-PM.jpeg
END:VEVENT
END:VCALENDAR