

BEGIN:VCALENDAR
VERSION:2.0
PRODID:-//Home - ECPv6.15.20//NONSGML v1.0//EN
CALSCALE:GREGORIAN
METHOD:PUBLISH
X-ORIGINAL-URL:https://www.lvtemple.org
X-WR-CALDESC:Events for Home
REFRESH-INTERVAL;VALUE=DURATION:PT1H
X-Robots-Tag:noindex
X-PUBLISHED-TTL:PT1H
BEGIN:VTIMEZONE
TZID:America/Los_Angeles
BEGIN:DAYLIGHT
TZOFFSETFROM:-0800
TZOFFSETTO:-0700
TZNAME:PDT
DTSTART:20250309T100000
END:DAYLIGHT
BEGIN:STANDARD
TZOFFSETFROM:-0700
TZOFFSETTO:-0800
TZNAME:PST
DTSTART:20251102T090000
END:STANDARD
BEGIN:DAYLIGHT
TZOFFSETFROM:-0800
TZOFFSETTO:-0700
TZNAME:PDT
DTSTART:20260308T100000
END:DAYLIGHT
BEGIN:STANDARD
TZOFFSETFROM:-0700
TZOFFSETTO:-0800
TZNAME:PST
DTSTART:20261101T090000
END:STANDARD
BEGIN:DAYLIGHT
TZOFFSETFROM:-0800
TZOFFSETTO:-0700
TZNAME:PDT
DTSTART:20270314T100000
END:DAYLIGHT
BEGIN:STANDARD
TZOFFSETFROM:-0700
TZOFFSETTO:-0800
TZNAME:PST
DTSTART:20271107T090000
END:STANDARD
END:VTIMEZONE
BEGIN:VEVENT
DTSTART;TZID=America/Los_Angeles:20260407T193000
DTEND;TZID=America/Los_Angeles:20260407T200000
DTSTAMP:20260422T203231
CREATED:20251231T190308Z
LAST-MODIFIED:20260301T203054Z
UID:10005249-1775590200-1775592000@www.lvtemple.org
SUMMARY:2026 - Anjaneya Abhishekam
DESCRIPTION:
URL:https://www.lvtemple.org/event/2026-anjaneya-abhishekam/2026-04-07/
LOCATION:SVETA LV Temple\, Lakshmi Venkateswara Temple\, 18109 NE 76th St\, STE#105\, Redmond\, WA\, 98052\, United States
ATTACH;FMTTYPE=image/jpeg:https://www.lvtemple.org/wp-content/uploads/2025/12/event-flyers-4-1-1.jpg
END:VEVENT
BEGIN:VEVENT
DTSTART;TZID=America/Los_Angeles:20260410T180000
DTEND;TZID=America/Los_Angeles:20260410T210000
DTSTAMP:20260422T203231
CREATED:20260408T222855Z
LAST-MODIFIED:20260408T222855Z
UID:10005276-1775844000-1775854800@www.lvtemple.org
SUMMARY:Sakala Karya Siddhi Sundarakanda Parayanam
DESCRIPTION:
URL:https://www.lvtemple.org/event/sakala-karya-siddhi-sundarakanda-parayanam/2026-04-10/
LOCATION:SVETA LV Temple\, Lakshmi Venkateswara Temple\, 18109 NE 76th St\, STE#105\, Redmond\, WA\, 98052\, United States
ATTACH;FMTTYPE=image/jpeg:https://www.lvtemple.org/wp-content/uploads/2026/04/event-flyers-2026-04-08t142054-279.jpg
END:VEVENT
BEGIN:VEVENT
DTSTART;TZID=America/Los_Angeles:20260411T100000
DTEND;TZID=America/Los_Angeles:20260411T150000
DTSTAMP:20260422T203231
CREATED:20260408T222855Z
LAST-MODIFIED:20260408T222855Z
UID:10005277-1775901600-1775919600@www.lvtemple.org
SUMMARY:Sakala Karya Siddhi Sundarakanda Parayanam
DESCRIPTION:
URL:https://www.lvtemple.org/event/sakala-karya-siddhi-sundarakanda-parayanam/2026-04-11/
LOCATION:SVETA LV Temple\, Lakshmi Venkateswara Temple\, 18109 NE 76th St\, STE#105\, Redmond\, WA\, 98052\, United States
ATTACH;FMTTYPE=image/jpeg:https://www.lvtemple.org/wp-content/uploads/2026/04/event-flyers-2026-04-08t142054-279.jpg
END:VEVENT
BEGIN:VEVENT
DTSTART;TZID=America/Los_Angeles:20260411T153000
DTEND;TZID=America/Los_Angeles:20260411T170000
DTSTAMP:20260422T203231
CREATED:20260325T155211Z
LAST-MODIFIED:20260325T155212Z
UID:10005265-1775921400-1775926800@www.lvtemple.org
SUMMARY:Carnatic Vocal Concert
DESCRIPTION:
URL:https://www.lvtemple.org/event/carnatic-vocal-concert-4/
LOCATION:SVETA LV Temple\, Lakshmi Venkateswara Temple\, 18109 NE 76th St\, STE#105\, Redmond\, WA\, 98052\, United States
CATEGORIES:Cultural
ATTACH;FMTTYPE=image/jpeg:https://www.lvtemple.org/wp-content/uploads/2026/03/e7de2efe-bca8-4d08-8cfa-9ce5e2c06681.jpeg
END:VEVENT
BEGIN:VEVENT
DTSTART;TZID=America/Los_Angeles:20260411T190000
DTEND;TZID=America/Los_Angeles:20260411T203000
DTSTAMP:20260422T203231
CREATED:20260409T024057Z
LAST-MODIFIED:20260409T024057Z
UID:10005278-1775934000-1775939400@www.lvtemple.org
SUMMARY:Shri Nataraja Abhishekam
DESCRIPTION:
URL:https://www.lvtemple.org/event/shri-nataraja-abhishekam/
LOCATION:SVETA LV Temple\, Lakshmi Venkateswara Temple\, 18109 NE 76th St\, STE#105\, Redmond\, WA\, 98052\, United States
ATTACH;FMTTYPE=image/jpeg:https://www.lvtemple.org/wp-content/uploads/2026/04/event-flyers-2026-04-08t193651-220.jpg
END:VEVENT
BEGIN:VEVENT
DTSTART;TZID=America/Los_Angeles:20260412T100000
DTEND;TZID=America/Los_Angeles:20260412T130000
DTSTAMP:20260422T203231
CREATED:20260325T065243Z
LAST-MODIFIED:20260403T201217Z
UID:10005264-1775988000-1775998800@www.lvtemple.org
SUMMARY:Homa in divine presence of Amma Sri Karunamayi
DESCRIPTION:
URL:https://www.lvtemple.org/event/homa-in-divine-presence-of-amma-sri-karunamayi-2/
LOCATION:SVETA LV Temple\, Lakshmi Venkateswara Temple\, 18109 NE 76th St\, STE#105\, Redmond\, WA\, 98052\, United States
ATTACH;FMTTYPE=image/jpeg:https://www.lvtemple.org/wp-content/uploads/2026/03/amma-seattle-program-2026-poster.jpg
END:VEVENT
BEGIN:VEVENT
DTSTART;VALUE=DATE:20260413
DTEND;VALUE=DATE:20260414
DTSTAMP:20260422T203231
CREATED:20260415T082518Z
LAST-MODIFIED:20260415T215616Z
UID:10005279-1776038400-1776124799@www.lvtemple.org
SUMMARY:Ramanuja Jayanti Celebrations
DESCRIPTION:
URL:https://www.lvtemple.org/event/ramanuja-jayanti-celebrations/2026-04-13/
LOCATION:SVETA LV Temple\, Lakshmi Venkateswara Temple\, 18109 NE 76th St\, STE#105\, Redmond\, WA\, 98052\, United States
ATTACH;FMTTYPE=image/jpeg:https://www.lvtemple.org/wp-content/uploads/2026/04/event-flyers-2026-04-15t004130-224.jpg
END:VEVENT
BEGIN:VEVENT
DTSTART;TZID=America/Los_Angeles:20260413T170000
DTEND;TZID=America/Los_Angeles:20260413T200000
DTSTAMP:20260422T203231
CREATED:20260403T200632Z
LAST-MODIFIED:20260403T200632Z
UID:10005274-1776099600-1776110400@www.lvtemple.org
SUMMARY:Siri Jyoti Pooja  by Srividya Trust\, Devipuram
DESCRIPTION:
URL:https://www.lvtemple.org/event/siri-jyoti-pooja-by-srividya-trust-devipuram/
LOCATION:SVETA LV Temple\, Lakshmi Venkateswara Temple\, 18109 NE 76th St\, STE#105\, Redmond\, WA\, 98052\, United States
ATTACH;FMTTYPE=image/jpeg:https://www.lvtemple.org/wp-content/uploads/2026/04/seattle.jpg
END:VEVENT
BEGIN:VEVENT
DTSTART;VALUE=DATE:20260414
DTEND;VALUE=DATE:20260415
DTSTAMP:20260422T203231
CREATED:20260415T082518Z
LAST-MODIFIED:20260415T215616Z
UID:10005280-1776124800-1776211199@www.lvtemple.org
SUMMARY:Ramanuja Jayanti Celebrations
DESCRIPTION:
URL:https://www.lvtemple.org/event/ramanuja-jayanti-celebrations/2026-04-14/
LOCATION:SVETA LV Temple\, Lakshmi Venkateswara Temple\, 18109 NE 76th St\, STE#105\, Redmond\, WA\, 98052\, United States
ATTACH;FMTTYPE=image/jpeg:https://www.lvtemple.org/wp-content/uploads/2026/04/event-flyers-2026-04-15t004130-224.jpg
END:VEVENT
BEGIN:VEVENT
DTSTART;TZID=America/Los_Angeles:20260414T080000
DTEND;TZID=America/Los_Angeles:20260414T210000
DTSTAMP:20260422T203231
CREATED:20260408T220540Z
LAST-MODIFIED:20260408T220540Z
UID:10005275-1776153600-1776200400@www.lvtemple.org
SUMMARY:Chittirai-Mesha Sankramana-Solar New Year
DESCRIPTION:
URL:https://www.lvtemple.org/event/chittirai-mesha-sankramana-solar-new-year/
LOCATION:SVETA LV Temple\, Lakshmi Venkateswara Temple\, 18109 NE 76th St\, STE#105\, Redmond\, WA\, 98052\, United States
ATTACH;FMTTYPE=image/jpeg:https://www.lvtemple.org/wp-content/uploads/2026/04/event-flyers-2026-04-08t150352-485.jpg
END:VEVENT
BEGIN:VEVENT
DTSTART;TZID=America/Los_Angeles:20260414T190000
DTEND;TZID=America/Los_Angeles:20260414T203000
DTSTAMP:20260422T203231
CREATED:20251231T193545Z
LAST-MODIFIED:20251231T193546Z
UID:10005138-1776193200-1776198600@www.lvtemple.org
SUMMARY:2026 - Pradosham Shiva Rudrabhishekam
DESCRIPTION:
URL:https://www.lvtemple.org/event/2026-pradosham-shiva-rudrabhishekam/2026-04-14/
LOCATION:SVETA LV Temple\, Lakshmi Venkateswara Temple\, 18109 NE 76th St\, STE#105\, Redmond\, WA\, 98052\, United States
ATTACH;FMTTYPE=image/jpeg:https://www.lvtemple.org/wp-content/uploads/2025/12/event-flyers-2-1-1.jpg
END:VEVENT
BEGIN:VEVENT
DTSTART;VALUE=DATE:20260415
DTEND;VALUE=DATE:20260416
DTSTAMP:20260422T203231
CREATED:20260415T082518Z
LAST-MODIFIED:20260415T215616Z
UID:10005281-1776211200-1776297599@www.lvtemple.org
SUMMARY:Ramanuja Jayanti Celebrations
DESCRIPTION:
URL:https://www.lvtemple.org/event/ramanuja-jayanti-celebrations/2026-04-15/
LOCATION:SVETA LV Temple\, Lakshmi Venkateswara Temple\, 18109 NE 76th St\, STE#105\, Redmond\, WA\, 98052\, United States
ATTACH;FMTTYPE=image/jpeg:https://www.lvtemple.org/wp-content/uploads/2026/04/event-flyers-2026-04-15t004130-224.jpg
END:VEVENT
BEGIN:VEVENT
DTSTART;VALUE=DATE:20260416
DTEND;VALUE=DATE:20260417
DTSTAMP:20260422T203231
CREATED:20260415T082518Z
LAST-MODIFIED:20260415T215616Z
UID:10005282-1776297600-1776383999@www.lvtemple.org
SUMMARY:Ramanuja Jayanti Celebrations
DESCRIPTION:
URL:https://www.lvtemple.org/event/ramanuja-jayanti-celebrations/2026-04-16/
LOCATION:SVETA LV Temple\, Lakshmi Venkateswara Temple\, 18109 NE 76th St\, STE#105\, Redmond\, WA\, 98052\, United States
ATTACH;FMTTYPE=image/jpeg:https://www.lvtemple.org/wp-content/uploads/2026/04/event-flyers-2026-04-15t004130-224.jpg
END:VEVENT
BEGIN:VEVENT
DTSTART;VALUE=DATE:20260417
DTEND;VALUE=DATE:20260418
DTSTAMP:20260422T203231
CREATED:20260415T082518Z
LAST-MODIFIED:20260415T215616Z
UID:10005283-1776384000-1776470399@www.lvtemple.org
SUMMARY:Ramanuja Jayanti Celebrations
DESCRIPTION:
URL:https://www.lvtemple.org/event/ramanuja-jayanti-celebrations/2026-04-17/
LOCATION:SVETA LV Temple\, Lakshmi Venkateswara Temple\, 18109 NE 76th St\, STE#105\, Redmond\, WA\, 98052\, United States
ATTACH;FMTTYPE=image/jpeg:https://www.lvtemple.org/wp-content/uploads/2026/04/event-flyers-2026-04-15t004130-224.jpg
END:VEVENT
BEGIN:VEVENT
DTSTART;VALUE=DATE:20260417
DTEND;VALUE=DATE:20260418
DTSTAMP:20260422T203231
CREATED:20260415T083307Z
LAST-MODIFIED:20260418T040233Z
UID:10005289-1776384000-1776470399@www.lvtemple.org
SUMMARY:Sankara Jayanti Celebrations
DESCRIPTION:
URL:https://www.lvtemple.org/event/sankara-jayanti-celebrations/2026-04-17/
LOCATION:SVETA LV Temple\, Lakshmi Venkateswara Temple\, 18109 NE 76th St\, STE#105\, Redmond\, WA\, 98052\, United States
ATTACH;FMTTYPE=image/jpeg:https://www.lvtemple.org/wp-content/uploads/2026/04/sankara-jayanti-1.jpg
END:VEVENT
BEGIN:VEVENT
DTSTART;VALUE=DATE:20260418
DTEND;VALUE=DATE:20260419
DTSTAMP:20260422T203231
CREATED:20260415T082518Z
LAST-MODIFIED:20260415T215616Z
UID:10005284-1776470400-1776556799@www.lvtemple.org
SUMMARY:Ramanuja Jayanti Celebrations
DESCRIPTION:
URL:https://www.lvtemple.org/event/ramanuja-jayanti-celebrations/2026-04-18/
LOCATION:SVETA LV Temple\, Lakshmi Venkateswara Temple\, 18109 NE 76th St\, STE#105\, Redmond\, WA\, 98052\, United States
ATTACH;FMTTYPE=image/jpeg:https://www.lvtemple.org/wp-content/uploads/2026/04/event-flyers-2026-04-15t004130-224.jpg
END:VEVENT
BEGIN:VEVENT
DTSTART;VALUE=DATE:20260418
DTEND;VALUE=DATE:20260419
DTSTAMP:20260422T203231
CREATED:20260415T083307Z
LAST-MODIFIED:20260418T040233Z
UID:10005290-1776470400-1776556799@www.lvtemple.org
SUMMARY:Sankara Jayanti Celebrations
DESCRIPTION:
URL:https://www.lvtemple.org/event/sankara-jayanti-celebrations/2026-04-18/
LOCATION:SVETA LV Temple\, Lakshmi Venkateswara Temple\, 18109 NE 76th St\, STE#105\, Redmond\, WA\, 98052\, United States
ATTACH;FMTTYPE=image/jpeg:https://www.lvtemple.org/wp-content/uploads/2026/04/sankara-jayanti-1.jpg
END:VEVENT
BEGIN:VEVENT
DTSTART;TZID=America/Los_Angeles:20260418T190000
DTEND;TZID=America/Los_Angeles:20260418T203000
DTSTAMP:20260422T203231
CREATED:20251231T202951Z
LAST-MODIFIED:20251231T202951Z
UID:10005179-1776538800-1776544200@www.lvtemple.org
SUMMARY:2026 - Subrahmanya Abhishekam
DESCRIPTION:
URL:https://www.lvtemple.org/event/2026-subrahmanya-abhishekam/2026-04-18/
LOCATION:SVETA LV Temple\, Lakshmi Venkateswara Temple\, 18109 NE 76th St\, STE#105\, Redmond\, WA\, 98052\, United States
ATTACH;FMTTYPE=image/jpeg:https://www.lvtemple.org/wp-content/uploads/2025/01/Event-Flyers-5-1.jpg
END:VEVENT
BEGIN:VEVENT
DTSTART;VALUE=DATE:20260419
DTEND;VALUE=DATE:20260420
DTSTAMP:20260422T203231
CREATED:20260415T082518Z
LAST-MODIFIED:20260415T215616Z
UID:10005285-1776556800-1776643199@www.lvtemple.org
SUMMARY:Ramanuja Jayanti Celebrations
DESCRIPTION:
URL:https://www.lvtemple.org/event/ramanuja-jayanti-celebrations/2026-04-19/
LOCATION:SVETA LV Temple\, Lakshmi Venkateswara Temple\, 18109 NE 76th St\, STE#105\, Redmond\, WA\, 98052\, United States
ATTACH;FMTTYPE=image/jpeg:https://www.lvtemple.org/wp-content/uploads/2026/04/event-flyers-2026-04-15t004130-224.jpg
END:VEVENT
BEGIN:VEVENT
DTSTART;VALUE=DATE:20260419
DTEND;VALUE=DATE:20260420
DTSTAMP:20260422T203231
CREATED:20260415T083307Z
LAST-MODIFIED:20260418T040233Z
UID:10005291-1776556800-1776643199@www.lvtemple.org
SUMMARY:Sankara Jayanti Celebrations
DESCRIPTION:
URL:https://www.lvtemple.org/event/sankara-jayanti-celebrations/2026-04-19/
LOCATION:SVETA LV Temple\, Lakshmi Venkateswara Temple\, 18109 NE 76th St\, STE#105\, Redmond\, WA\, 98052\, United States
ATTACH;FMTTYPE=image/jpeg:https://www.lvtemple.org/wp-content/uploads/2026/04/sankara-jayanti-1.jpg
END:VEVENT
BEGIN:VEVENT
DTSTART;TZID=America/Los_Angeles:20260419T110000
DTEND;TZID=America/Los_Angeles:20260419T123000
DTSTAMP:20260422T203231
CREATED:20260415T214231Z
LAST-MODIFIED:20260415T214231Z
UID:10005295-1776596400-1776601800@www.lvtemple.org
SUMMARY:Akshaya Trutiya-Vidyarambham
DESCRIPTION:
URL:https://www.lvtemple.org/event/akshaya-trutiya-vidyarambham/
LOCATION:SVETA LV Temple\, Lakshmi Venkateswara Temple\, 18109 NE 76th St\, STE#105\, Redmond\, WA\, 98052\, United States
ATTACH;FMTTYPE=image/jpeg:https://www.lvtemple.org/wp-content/uploads/2026/04/akshaya-tritiya.jpg
END:VEVENT
BEGIN:VEVENT
DTSTART;VALUE=DATE:20260420
DTEND;VALUE=DATE:20260421
DTSTAMP:20260422T203231
CREATED:20260415T082518Z
LAST-MODIFIED:20260415T215616Z
UID:10005286-1776643200-1776729599@www.lvtemple.org
SUMMARY:Ramanuja Jayanti Celebrations
DESCRIPTION:
URL:https://www.lvtemple.org/event/ramanuja-jayanti-celebrations/2026-04-20/
LOCATION:SVETA LV Temple\, Lakshmi Venkateswara Temple\, 18109 NE 76th St\, STE#105\, Redmond\, WA\, 98052\, United States
ATTACH;FMTTYPE=image/jpeg:https://www.lvtemple.org/wp-content/uploads/2026/04/event-flyers-2026-04-15t004130-224.jpg
END:VEVENT
BEGIN:VEVENT
DTSTART;VALUE=DATE:20260420
DTEND;VALUE=DATE:20260421
DTSTAMP:20260422T203231
CREATED:20260415T083307Z
LAST-MODIFIED:20260418T040233Z
UID:10005292-1776643200-1776729599@www.lvtemple.org
SUMMARY:Sankara Jayanti Celebrations
DESCRIPTION:
URL:https://www.lvtemple.org/event/sankara-jayanti-celebrations/2026-04-20/
LOCATION:SVETA LV Temple\, Lakshmi Venkateswara Temple\, 18109 NE 76th St\, STE#105\, Redmond\, WA\, 98052\, United States
ATTACH;FMTTYPE=image/jpeg:https://www.lvtemple.org/wp-content/uploads/2026/04/sankara-jayanti-1.jpg
END:VEVENT
BEGIN:VEVENT
DTSTART;VALUE=DATE:20260421
DTEND;VALUE=DATE:20260422
DTSTAMP:20260422T203231
CREATED:20260415T082518Z
LAST-MODIFIED:20260415T215616Z
UID:10005287-1776729600-1776815999@www.lvtemple.org
SUMMARY:Ramanuja Jayanti Celebrations
DESCRIPTION:
URL:https://www.lvtemple.org/event/ramanuja-jayanti-celebrations/2026-04-21/
LOCATION:SVETA LV Temple\, Lakshmi Venkateswara Temple\, 18109 NE 76th St\, STE#105\, Redmond\, WA\, 98052\, United States
ATTACH;FMTTYPE=image/jpeg:https://www.lvtemple.org/wp-content/uploads/2026/04/event-flyers-2026-04-15t004130-224.jpg
END:VEVENT
BEGIN:VEVENT
DTSTART;VALUE=DATE:20260421
DTEND;VALUE=DATE:20260422
DTSTAMP:20260422T203231
CREATED:20260415T083307Z
LAST-MODIFIED:20260418T040233Z
UID:10005293-1776729600-1776815999@www.lvtemple.org
SUMMARY:Sankara Jayanti Celebrations
DESCRIPTION:
URL:https://www.lvtemple.org/event/sankara-jayanti-celebrations/2026-04-21/
LOCATION:SVETA LV Temple\, Lakshmi Venkateswara Temple\, 18109 NE 76th St\, STE#105\, Redmond\, WA\, 98052\, United States
ATTACH;FMTTYPE=image/jpeg:https://www.lvtemple.org/wp-content/uploads/2026/04/sankara-jayanti-1.jpg
END:VEVENT
BEGIN:VEVENT
DTSTART;VALUE=DATE:20260422
DTEND;VALUE=DATE:20260423
DTSTAMP:20260422T203231
CREATED:20260415T082518Z
LAST-MODIFIED:20260415T215616Z
UID:10005288-1776816000-1776902399@www.lvtemple.org
SUMMARY:Ramanuja Jayanti Celebrations
DESCRIPTION:
URL:https://www.lvtemple.org/event/ramanuja-jayanti-celebrations/2026-04-22/
LOCATION:SVETA LV Temple\, Lakshmi Venkateswara Temple\, 18109 NE 76th St\, STE#105\, Redmond\, WA\, 98052\, United States
ATTACH;FMTTYPE=image/jpeg:https://www.lvtemple.org/wp-content/uploads/2026/04/event-flyers-2026-04-15t004130-224.jpg
END:VEVENT
BEGIN:VEVENT
DTSTART;VALUE=DATE:20260422
DTEND;VALUE=DATE:20260423
DTSTAMP:20260422T203231
CREATED:20260415T083307Z
LAST-MODIFIED:20260418T040233Z
UID:10005294-1776816000-1776902399@www.lvtemple.org
SUMMARY:Sankara Jayanti Celebrations
DESCRIPTION:
URL:https://www.lvtemple.org/event/sankara-jayanti-celebrations/2026-04-22/
LOCATION:SVETA LV Temple\, Lakshmi Venkateswara Temple\, 18109 NE 76th St\, STE#105\, Redmond\, WA\, 98052\, United States
ATTACH;FMTTYPE=image/jpeg:https://www.lvtemple.org/wp-content/uploads/2026/04/sankara-jayanti-1.jpg
END:VEVENT
BEGIN:VEVENT
DTSTART;TZID=America/Los_Angeles:20260423T100000
DTEND;TZID=America/Los_Angeles:20260423T110000
DTSTAMP:20260422T203231
CREATED:20251231T201628Z
LAST-MODIFIED:20260102T173354Z
UID:10005166-1776938400-1776942000@www.lvtemple.org
SUMMARY:2026 - Sri Rama Abhishekam
DESCRIPTION:
URL:https://www.lvtemple.org/event/2026-sri-rama-abhishekam/2026-04-23/
LOCATION:SVETA LV Temple\, Lakshmi Venkateswara Temple\, 18109 NE 76th St\, STE#105\, Redmond\, WA\, 98052\, United States
ATTACH;FMTTYPE=image/png:https://www.lvtemple.org/wp-content/uploads/2025/12/event-flyers-2026-01-02t093208-606.png
END:VEVENT
BEGIN:VEVENT
DTSTART;TZID=America/Los_Angeles:20260428T190000
DTEND;TZID=America/Los_Angeles:20260428T203000
DTSTAMP:20260422T203231
CREATED:20251231T193545Z
LAST-MODIFIED:20251231T193546Z
UID:10005139-1777402800-1777408200@www.lvtemple.org
SUMMARY:2026 - Pradosham Shiva Rudrabhishekam
DESCRIPTION:
URL:https://www.lvtemple.org/event/2026-pradosham-shiva-rudrabhishekam/2026-04-28/
LOCATION:SVETA LV Temple\, Lakshmi Venkateswara Temple\, 18109 NE 76th St\, STE#105\, Redmond\, WA\, 98052\, United States
ATTACH;FMTTYPE=image/jpeg:https://www.lvtemple.org/wp-content/uploads/2025/12/event-flyers-2-1-1.jpg
END:VEVENT
BEGIN:VEVENT
DTSTART;TZID=America/Los_Angeles:20260502T100000
DTEND;TZID=America/Los_Angeles:20260502T140000
DTSTAMP:20260422T203231
CREATED:20251231T183455Z
LAST-MODIFIED:20251231T183455Z
UID:10005087-1777716000-1777730400@www.lvtemple.org
SUMMARY:2026 - Lakshmi Venkateswara\, Maha Lakshmi & Andal Abhishekam/Tirumanjanam
DESCRIPTION:
URL:https://www.lvtemple.org/event/2026-lakshmi-venkateswara-maha-lakshmi-andal-abhishekam-tirumanjanam/2026-05-02/
LOCATION:SVETA LV Temple\, Lakshmi Venkateswara Temple\, 18109 NE 76th St\, STE#105\, Redmond\, WA\, 98052\, United States
ATTACH;FMTTYPE=image/jpeg:https://www.lvtemple.org/wp-content/uploads/2022/12/Event-Flyers-2.jpg
END:VEVENT
END:VCALENDAR