

BEGIN:VCALENDAR
VERSION:2.0
PRODID:-//Home - ECPv6.15.20//NONSGML v1.0//EN
CALSCALE:GREGORIAN
METHOD:PUBLISH
X-WR-CALNAME:Home
X-ORIGINAL-URL:https://www.lvtemple.org
X-WR-CALDESC:Events for Home
REFRESH-INTERVAL;VALUE=DURATION:PT1H
X-Robots-Tag:noindex
X-PUBLISHED-TTL:PT1H
BEGIN:VTIMEZONE
TZID:America/Los_Angeles
BEGIN:DAYLIGHT
TZOFFSETFROM:-0800
TZOFFSETTO:-0700
TZNAME:PDT
DTSTART:20240310T100000
END:DAYLIGHT
BEGIN:STANDARD
TZOFFSETFROM:-0700
TZOFFSETTO:-0800
TZNAME:PST
DTSTART:20241103T090000
END:STANDARD
BEGIN:DAYLIGHT
TZOFFSETFROM:-0800
TZOFFSETTO:-0700
TZNAME:PDT
DTSTART:20250309T100000
END:DAYLIGHT
BEGIN:STANDARD
TZOFFSETFROM:-0700
TZOFFSETTO:-0800
TZNAME:PST
DTSTART:20251102T090000
END:STANDARD
BEGIN:DAYLIGHT
TZOFFSETFROM:-0800
TZOFFSETTO:-0700
TZNAME:PDT
DTSTART:20260308T100000
END:DAYLIGHT
BEGIN:STANDARD
TZOFFSETFROM:-0700
TZOFFSETTO:-0800
TZNAME:PST
DTSTART:20261101T090000
END:STANDARD
END:VTIMEZONE
BEGIN:VEVENT
DTSTART;TZID=America/Los_Angeles:20250202T090000
DTEND;TZID=America/Los_Angeles:20250202T110000
DTSTAMP:20260420T153020
CREATED:20250128T044850Z
LAST-MODIFIED:20250128T044850Z
UID:10003963-1738486800-1738494000@www.lvtemple.org
SUMMARY:Vasantha Panchami - Samoohika Akshrabhyasam
DESCRIPTION:
URL:https://www.lvtemple.org/event/vasantha-panchami-samoohika-akshrabhyasam/
LOCATION:SVETA LV Temple\, Lakshmi Venkateswara Temple\, 18109 NE 76th St\, STE#105\, Redmond\, WA\, 98052\, United States
ATTACH;FMTTYPE=image/jpeg:https://www.lvtemple.org/wp-content/uploads/2025/01/WhatsApp-Image-2025-01-27-at-7.03.13-PM.jpeg
END:VEVENT
BEGIN:VEVENT
DTSTART;TZID=America/Los_Angeles:20250202T160000
DTEND;TZID=America/Los_Angeles:20250202T180000
DTSTAMP:20260420T153020
CREATED:20250128T050448Z
LAST-MODIFIED:20250128T050449Z
UID:10003967-1738512000-1738519200@www.lvtemple.org
SUMMARY:Vasavi Kanyaka Aradhanam
DESCRIPTION:
URL:https://www.lvtemple.org/event/vasavi-kanyaka-aradhanam/
LOCATION:SVETA LV Temple\, Lakshmi Venkateswara Temple\, 18109 NE 76th St\, STE#105\, Redmond\, WA\, 98052\, United States
ATTACH;FMTTYPE=image/jpeg:https://www.lvtemple.org/wp-content/uploads/2025/01/WhatsApp-Image-2025-01-27-at-8.52.29-PM-1.jpeg
END:VEVENT
BEGIN:VEVENT
DTSTART;TZID=America/Los_Angeles:20250204T073000
DTEND;TZID=America/Los_Angeles:20250204T110000
DTSTAMP:20260420T153020
CREATED:20250128T045226Z
LAST-MODIFIED:20250128T045226Z
UID:10003964-1738654200-1738666800@www.lvtemple.org
SUMMARY:Ratha Saptami Celebrations
DESCRIPTION:
URL:https://www.lvtemple.org/event/ratha-saptami-celebrations/
LOCATION:SVETA LV Temple\, Lakshmi Venkateswara Temple\, 18109 NE 76th St\, STE#105\, Redmond\, WA\, 98052\, United States
ATTACH;FMTTYPE=image/jpeg:https://www.lvtemple.org/wp-content/uploads/2025/01/WhatsApp-Image-2025-01-27-at-7.03.20-PM.jpeg
END:VEVENT
BEGIN:VEVENT
DTSTART;TZID=America/Los_Angeles:20250204T190000
DTEND;TZID=America/Los_Angeles:20250204T203000
DTSTAMP:20260420T153020
CREATED:20250104T183803Z
LAST-MODIFIED:20251231T185918Z
UID:10003838-1738695600-1738701000@www.lvtemple.org
SUMMARY:Hanuman Abhishekam
DESCRIPTION:
URL:https://www.lvtemple.org/event/hanuman-abhishekam-2/2025-02-04/
LOCATION:SVETA LV Temple\, Lakshmi Venkateswara Temple\, 18109 NE 76th St\, STE#105\, Redmond\, WA\, 98052\, United States
ATTACH;FMTTYPE=image/jpeg:https://www.lvtemple.org/wp-content/uploads/2025/01/Event-Flyers-4-1.jpg
END:VEVENT
BEGIN:VEVENT
DTSTART;TZID=America/Los_Angeles:20250205T190000
DTEND;TZID=America/Los_Angeles:20250205T203000
DTSTAMP:20260420T153020
CREATED:20250104T185340Z
LAST-MODIFIED:20250719T044047Z
UID:10003851-1738782000-1738787400@www.lvtemple.org
SUMMARY:Subrahmanya Abhishekam
DESCRIPTION:
URL:https://www.lvtemple.org/event/subrahmanya-abhishekam-2/2025-02-05/
LOCATION:SVETA LV Temple\, Lakshmi Venkateswara Temple\, 18109 NE 76th St\, STE#105\, Redmond\, WA\, 98052\, United States
ATTACH;FMTTYPE=image/jpeg:https://www.lvtemple.org/wp-content/uploads/2025/01/Event-Flyers-5-1.jpg
END:VEVENT
BEGIN:VEVENT
DTSTART;TZID=America/Los_Angeles:20250207T183000
DTEND;TZID=America/Los_Angeles:20250207T203000
DTSTAMP:20260420T153020
CREATED:20250128T045958Z
LAST-MODIFIED:20250128T045958Z
UID:10003966-1738953000-1738960200@www.lvtemple.org
SUMMARY:Bhishma Ekadasi Vishnu Sahasranama Parayanam
DESCRIPTION:
URL:https://www.lvtemple.org/event/bhishma-ekadasi-vishnu-sahasranama-parayanam/
LOCATION:SVETA LV Temple\, Lakshmi Venkateswara Temple\, 18109 NE 76th St\, STE#105\, Redmond\, WA\, 98052\, United States
ATTACH;FMTTYPE=image/jpeg:https://www.lvtemple.org/wp-content/uploads/2025/01/WhatsApp-Image-2025-01-27-at-7.03.31-PM.jpeg
END:VEVENT
END:VCALENDAR