

BEGIN:VCALENDAR
VERSION:2.0
PRODID:-//Home - ECPv6.15.20//NONSGML v1.0//EN
CALSCALE:GREGORIAN
METHOD:PUBLISH
X-WR-CALNAME:Home
X-ORIGINAL-URL:https://www.lvtemple.org
X-WR-CALDESC:Events for Home
REFRESH-INTERVAL;VALUE=DURATION:PT1H
X-Robots-Tag:noindex
X-PUBLISHED-TTL:PT1H
BEGIN:VTIMEZONE
TZID:America/Los_Angeles
BEGIN:DAYLIGHT
TZOFFSETFROM:-0800
TZOFFSETTO:-0700
TZNAME:PDT
DTSTART:20240310T100000
END:DAYLIGHT
BEGIN:STANDARD
TZOFFSETFROM:-0700
TZOFFSETTO:-0800
TZNAME:PST
DTSTART:20241103T090000
END:STANDARD
BEGIN:DAYLIGHT
TZOFFSETFROM:-0800
TZOFFSETTO:-0700
TZNAME:PDT
DTSTART:20250309T100000
END:DAYLIGHT
BEGIN:STANDARD
TZOFFSETFROM:-0700
TZOFFSETTO:-0800
TZNAME:PST
DTSTART:20251102T090000
END:STANDARD
BEGIN:DAYLIGHT
TZOFFSETFROM:-0800
TZOFFSETTO:-0700
TZNAME:PDT
DTSTART:20260308T100000
END:DAYLIGHT
BEGIN:STANDARD
TZOFFSETFROM:-0700
TZOFFSETTO:-0800
TZNAME:PST
DTSTART:20261101T090000
END:STANDARD
END:VTIMEZONE
BEGIN:VEVENT
DTSTART;TZID=America/Los_Angeles:20250323T100000
DTEND;TZID=America/Los_Angeles:20250323T160000
DTSTAMP:20260420T113806
CREATED:20250222T163209Z
LAST-MODIFIED:20250222T163209Z
UID:10003974-1742724000-1742745600@www.lvtemple.org
SUMMARY:Sakala Kaarya Siddhi Srimad Ramayana Parayanam
DESCRIPTION:
URL:https://www.lvtemple.org/event/sakala-kaarya-siddhi-srimad-ramayana-parayanam-4/2025-03-23/
LOCATION:SVETA LV Temple\, Lakshmi Venkateswara Temple\, 18109 NE 76th St\, STE#105\, Redmond\, WA\, 98052\, United States
ATTACH;FMTTYPE=image/jpeg:https://www.lvtemple.org/wp-content/uploads/2025/02/WhatsApp-Image-2025-02-20-at-12.16.13-AM.jpeg
END:VEVENT
BEGIN:VEVENT
DTSTART;TZID=America/Los_Angeles:20250323T170000
DTEND;TZID=America/Los_Angeles:20250323T180000
DTSTAMP:20260420T113806
CREATED:20250315T160404Z
LAST-MODIFIED:20250315T160404Z
UID:10004005-1742749200-1742752800@www.lvtemple.org
SUMMARY:Rama Gana Sabha worship of Lord Rama with Music and Dance
DESCRIPTION:
URL:https://www.lvtemple.org/event/rama-gana-sabha-worship-of-lord-rama-with-music-and-dance/2025-03-23/
LOCATION:SVETA LV Temple\, Lakshmi Venkateswara Temple\, 18109 NE 76th St\, STE#105\, Redmond\, WA\, 98052\, United States
CATEGORIES:Cultural
ATTACH;FMTTYPE=image/png:https://www.lvtemple.org/wp-content/uploads/2025/03/Event-Flyers-85.png
END:VEVENT
BEGIN:VEVENT
DTSTART;TZID=America/Los_Angeles:20250324T183000
DTEND;TZID=America/Los_Angeles:20250324T203000
DTSTAMP:20260420T113806
CREATED:20250222T163725Z
LAST-MODIFIED:20250222T163726Z
UID:10003989-1742841000-1742848200@www.lvtemple.org
SUMMARY:Sakala Kaarya Siddhi Srimad Ramayana Parayanam
DESCRIPTION:
URL:https://www.lvtemple.org/event/sakala-kaarya-siddhi-srimad-ramayana-parayanam-5/2025-03-24/
LOCATION:SVETA LV Temple\, Lakshmi Venkateswara Temple\, 18109 NE 76th St\, STE#105\, Redmond\, WA\, 98052\, United States
ATTACH;FMTTYPE=image/jpeg:https://www.lvtemple.org/wp-content/uploads/2025/02/WhatsApp-Image-2025-02-20-at-12.16.13-AM.jpeg
END:VEVENT
BEGIN:VEVENT
DTSTART;TZID=America/Los_Angeles:20250325T183000
DTEND;TZID=America/Los_Angeles:20250325T203000
DTSTAMP:20260420T113806
CREATED:20250222T163725Z
LAST-MODIFIED:20250222T163726Z
UID:10003990-1742927400-1742934600@www.lvtemple.org
SUMMARY:Sakala Kaarya Siddhi Srimad Ramayana Parayanam
DESCRIPTION:
URL:https://www.lvtemple.org/event/sakala-kaarya-siddhi-srimad-ramayana-parayanam-5/2025-03-25/
LOCATION:SVETA LV Temple\, Lakshmi Venkateswara Temple\, 18109 NE 76th St\, STE#105\, Redmond\, WA\, 98052\, United States
ATTACH;FMTTYPE=image/jpeg:https://www.lvtemple.org/wp-content/uploads/2025/02/WhatsApp-Image-2025-02-20-at-12.16.13-AM.jpeg
END:VEVENT
BEGIN:VEVENT
DTSTART;TZID=America/Los_Angeles:20250326T183000
DTEND;TZID=America/Los_Angeles:20250326T203000
DTSTAMP:20260420T113806
CREATED:20250222T163725Z
LAST-MODIFIED:20250222T163726Z
UID:10003991-1743013800-1743021000@www.lvtemple.org
SUMMARY:Sakala Kaarya Siddhi Srimad Ramayana Parayanam
DESCRIPTION:
URL:https://www.lvtemple.org/event/sakala-kaarya-siddhi-srimad-ramayana-parayanam-5/2025-03-26/
LOCATION:SVETA LV Temple\, Lakshmi Venkateswara Temple\, 18109 NE 76th St\, STE#105\, Redmond\, WA\, 98052\, United States
ATTACH;FMTTYPE=image/jpeg:https://www.lvtemple.org/wp-content/uploads/2025/02/WhatsApp-Image-2025-02-20-at-12.16.13-AM.jpeg
END:VEVENT
BEGIN:VEVENT
DTSTART;TZID=America/Los_Angeles:20250326T190000
DTEND;TZID=America/Los_Angeles:20250326T203000
DTSTAMP:20260420T113806
CREATED:20250104T192431Z
LAST-MODIFIED:20250120T162600Z
UID:10003868-1743015600-1743021000@www.lvtemple.org
SUMMARY:Pradosham Shiva Rudrabhishekam
DESCRIPTION:
URL:https://www.lvtemple.org/event/pradosham-shiva-rudrabhishekam/2025-03-26/
LOCATION:SVETA LV Temple\, Lakshmi Venkateswara Temple\, 18109 NE 76th St\, STE#105\, Redmond\, WA\, 98052\, United States
ATTACH;FMTTYPE=image/jpeg:https://www.lvtemple.org/wp-content/uploads/2025/01/Event-Flyers-2-1.jpg
END:VEVENT
BEGIN:VEVENT
DTSTART;TZID=America/Los_Angeles:20250327T183000
DTEND;TZID=America/Los_Angeles:20250327T203000
DTSTAMP:20260420T113806
CREATED:20250222T163725Z
LAST-MODIFIED:20250222T163726Z
UID:10003992-1743100200-1743107400@www.lvtemple.org
SUMMARY:Sakala Kaarya Siddhi Srimad Ramayana Parayanam
DESCRIPTION:
URL:https://www.lvtemple.org/event/sakala-kaarya-siddhi-srimad-ramayana-parayanam-5/2025-03-27/
LOCATION:SVETA LV Temple\, Lakshmi Venkateswara Temple\, 18109 NE 76th St\, STE#105\, Redmond\, WA\, 98052\, United States
ATTACH;FMTTYPE=image/jpeg:https://www.lvtemple.org/wp-content/uploads/2025/02/WhatsApp-Image-2025-02-20-at-12.16.13-AM.jpeg
END:VEVENT
BEGIN:VEVENT
DTSTART;TZID=America/Los_Angeles:20250328T183000
DTEND;TZID=America/Los_Angeles:20250328T203000
DTSTAMP:20260420T113806
CREATED:20250222T163725Z
LAST-MODIFIED:20250222T163726Z
UID:10003993-1743186600-1743193800@www.lvtemple.org
SUMMARY:Sakala Kaarya Siddhi Srimad Ramayana Parayanam
DESCRIPTION:
URL:https://www.lvtemple.org/event/sakala-kaarya-siddhi-srimad-ramayana-parayanam-5/2025-03-28/
LOCATION:SVETA LV Temple\, Lakshmi Venkateswara Temple\, 18109 NE 76th St\, STE#105\, Redmond\, WA\, 98052\, United States
ATTACH;FMTTYPE=image/jpeg:https://www.lvtemple.org/wp-content/uploads/2025/02/WhatsApp-Image-2025-02-20-at-12.16.13-AM.jpeg
END:VEVENT
BEGIN:VEVENT
DTSTART;TZID=America/Los_Angeles:20250329T090000
DTEND;TZID=America/Los_Angeles:20250329T200000
DTSTAMP:20260420T113806
CREATED:20250323T152844Z
LAST-MODIFIED:20250323T152845Z
UID:10004010-1743238800-1743278400@www.lvtemple.org
SUMMARY:Viswavasu Yugadi Celebrations
DESCRIPTION:
URL:https://www.lvtemple.org/event/viswavasu-yugadi-celebrations/
LOCATION:SVETA LV Temple\, Lakshmi Venkateswara Temple\, 18109 NE 76th St\, STE#105\, Redmond\, WA\, 98052\, United States
ATTACH;FMTTYPE=image/jpeg:https://www.lvtemple.org/wp-content/uploads/2025/03/WhatsApp-Image-2025-03-21-at-12.00.26-AM.jpeg
END:VEVENT
BEGIN:VEVENT
DTSTART;TZID=America/Los_Angeles:20250329T100000
DTEND;TZID=America/Los_Angeles:20250329T160000
DTSTAMP:20260420T113806
CREATED:20250222T163209Z
LAST-MODIFIED:20250222T163209Z
UID:10003975-1743242400-1743264000@www.lvtemple.org
SUMMARY:Sakala Kaarya Siddhi Srimad Ramayana Parayanam
DESCRIPTION:
URL:https://www.lvtemple.org/event/sakala-kaarya-siddhi-srimad-ramayana-parayanam-4/2025-03-29/
LOCATION:SVETA LV Temple\, Lakshmi Venkateswara Temple\, 18109 NE 76th St\, STE#105\, Redmond\, WA\, 98052\, United States
ATTACH;FMTTYPE=image/jpeg:https://www.lvtemple.org/wp-content/uploads/2025/02/WhatsApp-Image-2025-02-20-at-12.16.13-AM.jpeg
END:VEVENT
BEGIN:VEVENT
DTSTART;TZID=America/Los_Angeles:20250329T170000
DTEND;TZID=America/Los_Angeles:20250329T180000
DTSTAMP:20260420T113806
CREATED:20250315T160404Z
LAST-MODIFIED:20250315T160404Z
UID:10004006-1743267600-1743271200@www.lvtemple.org
SUMMARY:Rama Gana Sabha worship of Lord Rama with Music and Dance
DESCRIPTION:
URL:https://www.lvtemple.org/event/rama-gana-sabha-worship-of-lord-rama-with-music-and-dance/2025-03-29/
LOCATION:SVETA LV Temple\, Lakshmi Venkateswara Temple\, 18109 NE 76th St\, STE#105\, Redmond\, WA\, 98052\, United States
CATEGORIES:Cultural
ATTACH;FMTTYPE=image/png:https://www.lvtemple.org/wp-content/uploads/2025/03/Event-Flyers-85.png
END:VEVENT
END:VCALENDAR