

BEGIN:VCALENDAR
VERSION:2.0
PRODID:-//Home - ECPv6.15.20//NONSGML v1.0//EN
CALSCALE:GREGORIAN
METHOD:PUBLISH
X-ORIGINAL-URL:https://www.lvtemple.org
X-WR-CALDESC:Events for Home
REFRESH-INTERVAL;VALUE=DURATION:PT1H
X-Robots-Tag:noindex
X-PUBLISHED-TTL:PT1H
BEGIN:VTIMEZONE
TZID:America/Los_Angeles
BEGIN:DAYLIGHT
TZOFFSETFROM:-0800
TZOFFSETTO:-0700
TZNAME:PDT
DTSTART:20240310T100000
END:DAYLIGHT
BEGIN:STANDARD
TZOFFSETFROM:-0700
TZOFFSETTO:-0800
TZNAME:PST
DTSTART:20241103T090000
END:STANDARD
BEGIN:DAYLIGHT
TZOFFSETFROM:-0800
TZOFFSETTO:-0700
TZNAME:PDT
DTSTART:20250309T100000
END:DAYLIGHT
BEGIN:STANDARD
TZOFFSETFROM:-0700
TZOFFSETTO:-0800
TZNAME:PST
DTSTART:20251102T090000
END:STANDARD
BEGIN:DAYLIGHT
TZOFFSETFROM:-0800
TZOFFSETTO:-0700
TZNAME:PDT
DTSTART:20260308T100000
END:DAYLIGHT
BEGIN:STANDARD
TZOFFSETFROM:-0700
TZOFFSETTO:-0800
TZNAME:PST
DTSTART:20261101T090000
END:STANDARD
END:VTIMEZONE
BEGIN:VEVENT
DTSTART;TZID=America/Los_Angeles:20250413T183000
DTEND;TZID=America/Los_Angeles:20250413T203000
DTSTAMP:20260420T130547
CREATED:20250409T031744Z
LAST-MODIFIED:20250409T031744Z
UID:10004015-1744569000-1744576200@www.lvtemple.org
SUMMARY:Viswavasu Chittirai Mesha Sankramanam
DESCRIPTION:
URL:https://www.lvtemple.org/event/viswavasu-chittirai-mesha-sankramanam/
LOCATION:WA
ATTACH;FMTTYPE=image/jpeg:https://www.lvtemple.org/wp-content/uploads/2025/04/WhatsApp-Image-2025-04-08-at-2.44.15-AM.jpeg
END:VEVENT
BEGIN:VEVENT
DTSTART;TZID=America/Los_Angeles:20250413T190000
DTEND;TZID=America/Los_Angeles:20250413T203000
DTSTAMP:20260420T130547
CREATED:20250121T054910Z
LAST-MODIFIED:20250121T054912Z
UID:10003903-1744570800-1744576200@www.lvtemple.org
SUMMARY:Narasimha Abhishekam
DESCRIPTION:
URL:https://www.lvtemple.org/event/narasimha-abhishekam/2025-04-13/
LOCATION:SVETA LV Temple\, Lakshmi Venkateswara Temple\, 18109 NE 76th St\, STE#105\, Redmond\, WA\, 98052\, United States
ATTACH;FMTTYPE=image/jpeg:https://www.lvtemple.org/wp-content/uploads/2025/01/Event-Flyers-6-1.jpg
END:VEVENT
BEGIN:VEVENT
DTSTART;TZID=America/Los_Angeles:20250416T190000
DTEND;TZID=America/Los_Angeles:20250416T203000
DTSTAMP:20260420T130547
CREATED:20250105T041722Z
LAST-MODIFIED:20250123T072328Z
UID:10003913-1744830000-1744835400@www.lvtemple.org
SUMMARY:Siddhi Vinayaka Abhishekam
DESCRIPTION:
URL:https://www.lvtemple.org/event/siddhi-vinayaka-abhishekam/2025-04-16/
LOCATION:SVETA LV Temple\, Lakshmi Venkateswara Temple\, 18109 NE 76th St\, STE#105\, Redmond\, WA\, 98052\, United States
ATTACH;FMTTYPE=image/jpeg:https://www.lvtemple.org/wp-content/uploads/2025/01/WhatsApp-Image-2025-01-04-at-8.11.14-PM.jpeg
END:VEVENT
BEGIN:VEVENT
DTSTART;TZID=America/Los_Angeles:20250418T100000
DTEND;TZID=America/Los_Angeles:20250418T200000
DTSTAMP:20260420T130547
CREATED:20250323T151801Z
LAST-MODIFIED:20250323T151802Z
UID:10004008-1744970400-1745006400@www.lvtemple.org
SUMMARY:Sri Lalitha Koti Nama Stotra Parayana
DESCRIPTION:Link to Register: bit.ly/kotiparayanam \nIntroduction to Dr. Aruna Peri bit.ly/IntroDrArunaPeri
URL:https://www.lvtemple.org/event/sri-lalitha-koti-nama-stotra-parayana/2025-04-18/
LOCATION:SVETA LV Temple\, Lakshmi Venkateswara Temple\, 18109 NE 76th St\, STE#105\, Redmond\, WA\, 98052\, United States
ATTACH;FMTTYPE=image/png:https://www.lvtemple.org/wp-content/uploads/2025/03/Event-Flyers-86.png
END:VEVENT
BEGIN:VEVENT
DTSTART;TZID=America/Los_Angeles:20250419T100000
DTEND;TZID=America/Los_Angeles:20250419T200000
DTSTAMP:20260420T130547
CREATED:20250323T151801Z
LAST-MODIFIED:20250323T151802Z
UID:10004009-1745056800-1745092800@www.lvtemple.org
SUMMARY:Sri Lalitha Koti Nama Stotra Parayana
DESCRIPTION:Link to Register: bit.ly/kotiparayanam \nIntroduction to Dr. Aruna Peri bit.ly/IntroDrArunaPeri
URL:https://www.lvtemple.org/event/sri-lalitha-koti-nama-stotra-parayana/2025-04-19/
LOCATION:SVETA LV Temple\, Lakshmi Venkateswara Temple\, 18109 NE 76th St\, STE#105\, Redmond\, WA\, 98052\, United States
ATTACH;FMTTYPE=image/png:https://www.lvtemple.org/wp-content/uploads/2025/03/Event-Flyers-86.png
END:VEVENT
END:VCALENDAR