

BEGIN:VCALENDAR
VERSION:2.0
PRODID:-//Home - ECPv6.15.20//NONSGML v1.0//EN
CALSCALE:GREGORIAN
METHOD:PUBLISH
X-WR-CALNAME:Home
X-ORIGINAL-URL:https://www.lvtemple.org
X-WR-CALDESC:Events for Home
REFRESH-INTERVAL;VALUE=DURATION:PT1H
X-Robots-Tag:noindex
X-PUBLISHED-TTL:PT1H
BEGIN:VTIMEZONE
TZID:America/Los_Angeles
BEGIN:DAYLIGHT
TZOFFSETFROM:-0800
TZOFFSETTO:-0700
TZNAME:PDT
DTSTART:20240310T100000
END:DAYLIGHT
BEGIN:STANDARD
TZOFFSETFROM:-0700
TZOFFSETTO:-0800
TZNAME:PST
DTSTART:20241103T090000
END:STANDARD
BEGIN:DAYLIGHT
TZOFFSETFROM:-0800
TZOFFSETTO:-0700
TZNAME:PDT
DTSTART:20250309T100000
END:DAYLIGHT
BEGIN:STANDARD
TZOFFSETFROM:-0700
TZOFFSETTO:-0800
TZNAME:PST
DTSTART:20251102T090000
END:STANDARD
BEGIN:DAYLIGHT
TZOFFSETFROM:-0800
TZOFFSETTO:-0700
TZNAME:PDT
DTSTART:20260308T100000
END:DAYLIGHT
BEGIN:STANDARD
TZOFFSETFROM:-0700
TZOFFSETTO:-0800
TZNAME:PST
DTSTART:20261101T090000
END:STANDARD
END:VTIMEZONE
BEGIN:VEVENT
DTSTART;TZID=America/Los_Angeles:20250512T183000
DTEND;TZID=America/Los_Angeles:20250512T203000
DTSTAMP:20260420T113807
CREATED:20250427T163422Z
LAST-MODIFIED:20250427T221651Z
UID:10004399-1747074600-1747081800@www.lvtemple.org
SUMMARY:Vaisakha Poornima - Samoohika Satyanarayana Vratam
DESCRIPTION:
URL:https://www.lvtemple.org/event/vaisakha-poornima-samoohika-satyanarayana-vratam-4/
LOCATION:SVETA LV Temple\, Lakshmi Venkateswara Temple\, 18109 NE 76th St\, STE#105\, Redmond\, WA\, 98052\, United States
ATTACH;FMTTYPE=image/png:https://www.lvtemple.org/wp-content/uploads/2025/04/Event-Flyers-88.png
END:VEVENT
BEGIN:VEVENT
DTSTART;TZID=America/Los_Angeles:20250515T190000
DTEND;TZID=America/Los_Angeles:20250515T203000
DTSTAMP:20260420T113807
CREATED:20250105T041722Z
LAST-MODIFIED:20250123T072328Z
UID:10003914-1747335600-1747341000@www.lvtemple.org
SUMMARY:Siddhi Vinayaka Abhishekam
DESCRIPTION:
URL:https://www.lvtemple.org/event/siddhi-vinayaka-abhishekam/2025-05-15/
LOCATION:SVETA LV Temple\, Lakshmi Venkateswara Temple\, 18109 NE 76th St\, STE#105\, Redmond\, WA\, 98052\, United States
ATTACH;FMTTYPE=image/jpeg:https://www.lvtemple.org/wp-content/uploads/2025/01/WhatsApp-Image-2025-01-04-at-8.11.14-PM.jpeg
END:VEVENT
BEGIN:VEVENT
DTSTART;TZID=America/Los_Angeles:20250517T120000
DTEND;TZID=America/Los_Angeles:20250517T150000
DTSTAMP:20260420T113807
CREATED:20250517T210519Z
LAST-MODIFIED:20250517T210520Z
UID:10004402-1747483200-1747494000@www.lvtemple.org
SUMMARY:Sundarakanda Parayanam
DESCRIPTION:
URL:https://www.lvtemple.org/event/sundarakanda-parayanam/2025-05-17/
LOCATION:SVETA LV Temple\, Lakshmi Venkateswara Temple\, 18109 NE 76th St\, STE#105\, Redmond\, WA\, 98052\, United States
ATTACH;FMTTYPE=image/jpeg:https://www.lvtemple.org/wp-content/uploads/2025/05/WhatsApp-Image-2025-05-16-at-9.26.17-AM.jpeg
END:VEVENT
BEGIN:VEVENT
DTSTART;TZID=America/Los_Angeles:20250517T160000
DTEND;TZID=America/Los_Angeles:20250517T180000
DTSTAMP:20260420T113807
CREATED:20250406T022110Z
LAST-MODIFIED:20250517T210043Z
UID:10004014-1747497600-1747504800@www.lvtemple.org
SUMMARY:Carnatic Vocal Concert
DESCRIPTION:“Due to unforeseen circumstances\, Vid Raghava Chary left for India earlier this week. May 17 concert will be a violin solo concert by Vid VVS Murari\, accompanied by Vid. Ethirajan Ramanujan on mridangam and Vid. Alathur T. Rajaganesh on kanjira. All are welcome. No ticket charge.”
URL:https://www.lvtemple.org/event/carnatic-vocal-concert-2/
LOCATION:SVETA LV Temple\, Lakshmi Venkateswara Temple\, 18109 NE 76th St\, STE#105\, Redmond\, WA\, 98052\, United States
CATEGORIES:Cultural
ATTACH;FMTTYPE=image/jpeg:https://www.lvtemple.org/wp-content/uploads/2025/04/63e4dc7d-426c-4c7c-a414-c6316b0a6d80.jpeg
END:VEVENT
END:VCALENDAR