

BEGIN:VCALENDAR
VERSION:2.0
PRODID:-//Home - ECPv6.15.20//NONSGML v1.0//EN
CALSCALE:GREGORIAN
METHOD:PUBLISH
X-ORIGINAL-URL:https://www.lvtemple.org
X-WR-CALDESC:Events for Home
REFRESH-INTERVAL;VALUE=DURATION:PT1H
X-Robots-Tag:noindex
X-PUBLISHED-TTL:PT1H
BEGIN:VTIMEZONE
TZID:America/Los_Angeles
BEGIN:DAYLIGHT
TZOFFSETFROM:-0800
TZOFFSETTO:-0700
TZNAME:PDT
DTSTART:20240310T100000
END:DAYLIGHT
BEGIN:STANDARD
TZOFFSETFROM:-0700
TZOFFSETTO:-0800
TZNAME:PST
DTSTART:20241103T090000
END:STANDARD
BEGIN:DAYLIGHT
TZOFFSETFROM:-0800
TZOFFSETTO:-0700
TZNAME:PDT
DTSTART:20250309T100000
END:DAYLIGHT
BEGIN:STANDARD
TZOFFSETFROM:-0700
TZOFFSETTO:-0800
TZNAME:PST
DTSTART:20251102T090000
END:STANDARD
BEGIN:DAYLIGHT
TZOFFSETFROM:-0800
TZOFFSETTO:-0700
TZNAME:PDT
DTSTART:20260308T100000
END:DAYLIGHT
BEGIN:STANDARD
TZOFFSETFROM:-0700
TZOFFSETTO:-0800
TZNAME:PST
DTSTART:20261101T090000
END:STANDARD
END:VTIMEZONE
BEGIN:VEVENT
DTSTART;TZID=America/Los_Angeles:20250831T090000
DTEND;TZID=America/Los_Angeles:20250831T210000
DTSTAMP:20260422T021359
CREATED:20250814T033716Z
LAST-MODIFIED:20250814T034119Z
UID:10004423-1756630800-1756674000@www.lvtemple.org
SUMMARY:Ganesha Navaratri Celebrations
DESCRIPTION:
URL:https://www.lvtemple.org/event/ganesha-navaratri-celebrations/2025-08-31/
LOCATION:SVETA LV Temple\, Lakshmi Venkateswara Temple\, 18109 NE 76th St\, STE#105\, Redmond\, WA\, 98052\, United States
ATTACH;FMTTYPE=image/png:https://www.lvtemple.org/wp-content/uploads/2025/08/Event-Flyers-95.png
END:VEVENT
BEGIN:VEVENT
DTSTART;TZID=America/Los_Angeles:20250831T110000
DTEND;TZID=America/Los_Angeles:20250831T130000
DTSTAMP:20260422T021359
CREATED:20250828T041658Z
LAST-MODIFIED:20250828T041658Z
UID:10004431-1756638000-1756645200@www.lvtemple.org
SUMMARY:Carnatic Musical Recital
DESCRIPTION:
URL:https://www.lvtemple.org/event/carnatic-musical-recital/
LOCATION:SVETA LV Temple\, Lakshmi Venkateswara Temple\, 18109 NE 76th St\, STE#105\, Redmond\, WA\, 98052\, United States
CATEGORIES:Cultural
ATTACH;FMTTYPE=image/jpeg:https://www.lvtemple.org/wp-content/uploads/2025/08/WhatsApp-Image-2025-08-27-at-8.51.16-PM.jpeg
END:VEVENT
BEGIN:VEVENT
DTSTART;TZID=America/Los_Angeles:20250831T113000
DTEND;TZID=America/Los_Angeles:20250831T123000
DTSTAMP:20260422T021359
CREATED:20250828T041541Z
LAST-MODIFIED:20250828T041542Z
UID:10004430-1756639800-1756643400@www.lvtemple.org
SUMMARY:Carnatic Mini Concert
DESCRIPTION:
URL:https://www.lvtemple.org/event/carnatic-mini-concert/
LOCATION:SVETA LV Temple\, Lakshmi Venkateswara Temple\, 18109 NE 76th St\, STE#105\, Redmond\, WA\, 98052\, United States
CATEGORIES:Cultural
ATTACH;FMTTYPE=image/jpeg:https://www.lvtemple.org/wp-content/uploads/2025/08/WhatsApp-Image-2025-08-27-at-8.51.49-PM.jpeg
END:VEVENT
BEGIN:VEVENT
DTSTART;TZID=America/Los_Angeles:20250901T090000
DTEND;TZID=America/Los_Angeles:20250901T210000
DTSTAMP:20260422T021359
CREATED:20250814T033716Z
LAST-MODIFIED:20250814T034119Z
UID:10004424-1756717200-1756760400@www.lvtemple.org
SUMMARY:Ganesha Navaratri Celebrations
DESCRIPTION:
URL:https://www.lvtemple.org/event/ganesha-navaratri-celebrations/2025-09-01/
LOCATION:SVETA LV Temple\, Lakshmi Venkateswara Temple\, 18109 NE 76th St\, STE#105\, Redmond\, WA\, 98052\, United States
ATTACH;FMTTYPE=image/png:https://www.lvtemple.org/wp-content/uploads/2025/08/Event-Flyers-95.png
END:VEVENT
BEGIN:VEVENT
DTSTART;TZID=America/Los_Angeles:20250901T173000
DTEND;TZID=America/Los_Angeles:20250901T190000
DTSTAMP:20260422T021359
CREATED:20250828T041425Z
LAST-MODIFIED:20250828T041426Z
UID:10004429-1756747800-1756753200@www.lvtemple.org
SUMMARY:Special Concert on Lord Ganesha
DESCRIPTION:
URL:https://www.lvtemple.org/event/special-concert-on-lord-ganesha/
LOCATION:SVETA LV Temple\, Lakshmi Venkateswara Temple\, 18109 NE 76th St\, STE#105\, Redmond\, WA\, 98052\, United States
CATEGORIES:Cultural
ATTACH;FMTTYPE=image/jpeg:https://www.lvtemple.org/wp-content/uploads/2025/08/WhatsApp-Image-2025-08-27-at-8.15.58-PM.jpeg
END:VEVENT
BEGIN:VEVENT
DTSTART;TZID=America/Los_Angeles:20250902T090000
DTEND;TZID=America/Los_Angeles:20250902T210000
DTSTAMP:20260422T021359
CREATED:20250814T033716Z
LAST-MODIFIED:20250814T034119Z
UID:10004425-1756803600-1756846800@www.lvtemple.org
SUMMARY:Ganesha Navaratri Celebrations
DESCRIPTION:
URL:https://www.lvtemple.org/event/ganesha-navaratri-celebrations/2025-09-02/
LOCATION:SVETA LV Temple\, Lakshmi Venkateswara Temple\, 18109 NE 76th St\, STE#105\, Redmond\, WA\, 98052\, United States
ATTACH;FMTTYPE=image/png:https://www.lvtemple.org/wp-content/uploads/2025/08/Event-Flyers-95.png
END:VEVENT
BEGIN:VEVENT
DTSTART;TZID=America/Los_Angeles:20250902T190000
DTEND;TZID=America/Los_Angeles:20250902T203000
DTSTAMP:20260422T021359
CREATED:20250104T183803Z
LAST-MODIFIED:20251231T185918Z
UID:10003845-1756839600-1756845000@www.lvtemple.org
SUMMARY:Hanuman Abhishekam
DESCRIPTION:
URL:https://www.lvtemple.org/event/hanuman-abhishekam-2/2025-09-02/
LOCATION:SVETA LV Temple\, Lakshmi Venkateswara Temple\, 18109 NE 76th St\, STE#105\, Redmond\, WA\, 98052\, United States
ATTACH;FMTTYPE=image/jpeg:https://www.lvtemple.org/wp-content/uploads/2025/01/Event-Flyers-4-1.jpg
END:VEVENT
BEGIN:VEVENT
DTSTART;TZID=America/Los_Angeles:20250903T090000
DTEND;TZID=America/Los_Angeles:20250903T210000
DTSTAMP:20260422T021359
CREATED:20250814T033716Z
LAST-MODIFIED:20250814T034119Z
UID:10004426-1756890000-1756933200@www.lvtemple.org
SUMMARY:Ganesha Navaratri Celebrations
DESCRIPTION:
URL:https://www.lvtemple.org/event/ganesha-navaratri-celebrations/2025-09-03/
LOCATION:SVETA LV Temple\, Lakshmi Venkateswara Temple\, 18109 NE 76th St\, STE#105\, Redmond\, WA\, 98052\, United States
ATTACH;FMTTYPE=image/png:https://www.lvtemple.org/wp-content/uploads/2025/08/Event-Flyers-95.png
END:VEVENT
BEGIN:VEVENT
DTSTART;TZID=America/Los_Angeles:20250904T190000
DTEND;TZID=America/Los_Angeles:20250904T203000
DTSTAMP:20260422T021359
CREATED:20250104T192431Z
LAST-MODIFIED:20250120T162600Z
UID:10003892-1757012400-1757017800@www.lvtemple.org
SUMMARY:Pradosham Shiva Rudrabhishekam
DESCRIPTION:
URL:https://www.lvtemple.org/event/pradosham-shiva-rudrabhishekam/2025-09-04/
LOCATION:SVETA LV Temple\, Lakshmi Venkateswara Temple\, 18109 NE 76th St\, STE#105\, Redmond\, WA\, 98052\, United States
ATTACH;FMTTYPE=image/jpeg:https://www.lvtemple.org/wp-content/uploads/2025/01/Event-Flyers-2-1.jpg
END:VEVENT
BEGIN:VEVENT
DTSTART;TZID=America/Los_Angeles:20250906T100000
DTEND;TZID=America/Los_Angeles:20250906T140000
DTSTAMP:20260422T021359
CREATED:20231230T050110Z
LAST-MODIFIED:20251231T184052Z
UID:10003815-1757152800-1757167200@www.lvtemple.org
SUMMARY:Lakshmi Venkateswara\, Maha Lakshmi & Andal Abhishekam/Tirumanjanam
DESCRIPTION:
URL:https://www.lvtemple.org/event/lakshmi-venkateswara-maha-lakshmi-andal-abhishekam-tirumanjanam-3/2025-09-06/
LOCATION:SVETA LV Temple\, Lakshmi Venkateswara Temple\, 18109 NE 76th St\, STE#105\, Redmond\, WA\, 98052\, United States
ATTACH;FMTTYPE=image/jpeg:https://www.lvtemple.org/wp-content/uploads/2022/12/Event-Flyers-2.jpg
END:VEVENT
BEGIN:VEVENT
DTSTART;TZID=America/Los_Angeles:20250906T100000
DTEND;TZID=America/Los_Angeles:20250906T140000
DTSTAMP:20260422T021359
CREATED:20251231T183455Z
LAST-MODIFIED:20251231T183455Z
UID:10005079-1757152800-1757167200@www.lvtemple.org
SUMMARY:2026 - Lakshmi Venkateswara\, Maha Lakshmi & Andal Abhishekam/Tirumanjanam
DESCRIPTION:
URL:https://www.lvtemple.org/event/2026-lakshmi-venkateswara-maha-lakshmi-andal-abhishekam-tirumanjanam/2025-09-06/
LOCATION:SVETA LV Temple\, Lakshmi Venkateswara Temple\, 18109 NE 76th St\, STE#105\, Redmond\, WA\, 98052\, United States
ATTACH;FMTTYPE=image/jpeg:https://www.lvtemple.org/wp-content/uploads/2022/12/Event-Flyers-2.jpg
END:VEVENT
BEGIN:VEVENT
DTSTART;TZID=America/Los_Angeles:20250906T113000
DTEND;TZID=America/Los_Angeles:20250906T123000
DTSTAMP:20260422T021359
CREATED:20250906T012304Z
LAST-MODIFIED:20250906T012304Z
UID:10004442-1757158200-1757161800@www.lvtemple.org
SUMMARY:Bhagavad Gita-Voice of God  Bharatanatyam recital by Yogesh and Sneha
DESCRIPTION:
URL:https://www.lvtemple.org/event/bhagavad-gita-voice-of-god-bharatanatyam-recital-by-yogesh-and-sneha/
LOCATION:SVETA LV Temple\, Lakshmi Venkateswara Temple\, 18109 NE 76th St\, STE#105\, Redmond\, WA\, 98052\, United States
ATTACH;FMTTYPE=image/jpeg:https://www.lvtemple.org/wp-content/uploads/2025/09/Event-Flyers-2025-09-05T182034.642.jpg
END:VEVENT
END:VCALENDAR