

BEGIN:VCALENDAR
VERSION:2.0
PRODID:-//Home - ECPv6.15.20//NONSGML v1.0//EN
CALSCALE:GREGORIAN
METHOD:PUBLISH
X-WR-CALNAME:Home
X-ORIGINAL-URL:https://www.lvtemple.org
X-WR-CALDESC:Events for Home
REFRESH-INTERVAL;VALUE=DURATION:PT1H
X-Robots-Tag:noindex
X-PUBLISHED-TTL:PT1H
BEGIN:VTIMEZONE
TZID:America/Los_Angeles
BEGIN:DAYLIGHT
TZOFFSETFROM:-0800
TZOFFSETTO:-0700
TZNAME:PDT
DTSTART:20240310T100000
END:DAYLIGHT
BEGIN:STANDARD
TZOFFSETFROM:-0700
TZOFFSETTO:-0800
TZNAME:PST
DTSTART:20241103T090000
END:STANDARD
BEGIN:DAYLIGHT
TZOFFSETFROM:-0800
TZOFFSETTO:-0700
TZNAME:PDT
DTSTART:20250309T100000
END:DAYLIGHT
BEGIN:STANDARD
TZOFFSETFROM:-0700
TZOFFSETTO:-0800
TZNAME:PST
DTSTART:20251102T090000
END:STANDARD
BEGIN:DAYLIGHT
TZOFFSETFROM:-0800
TZOFFSETTO:-0700
TZNAME:PDT
DTSTART:20260308T100000
END:DAYLIGHT
BEGIN:STANDARD
TZOFFSETFROM:-0700
TZOFFSETTO:-0800
TZNAME:PST
DTSTART:20261101T090000
END:STANDARD
END:VTIMEZONE
BEGIN:VEVENT
DTSTART;TZID=America/Los_Angeles:20251130T100000
DTEND;TZID=America/Los_Angeles:20251130T140000
DTSTAMP:20260423T103759
CREATED:20251122T214614Z
LAST-MODIFIED:20251122T214614Z
UID:10004589-1764496800-1764511200@www.lvtemple.org
SUMMARY:Gita Jayanti - Srimad Bhagavad Gita Homam
DESCRIPTION:
URL:https://www.lvtemple.org/event/gita-jayanti-srimad-bhagavad-gita-homam/
LOCATION:SVETA LV Temple\, Lakshmi Venkateswara Temple\, 18109 NE 76th St\, STE#105\, Redmond\, WA\, 98052\, United States
ATTACH;FMTTYPE=image/jpeg:https://www.lvtemple.org/wp-content/uploads/2025/11/WhatsApp-Image-2025-11-20-at-10.57.59.jpeg
END:VEVENT
BEGIN:VEVENT
DTSTART;TZID=America/Los_Angeles:20251130T150000
DTEND;TZID=America/Los_Angeles:20251130T170000
DTSTAMP:20260423T103759
CREATED:20251012T225833Z
LAST-MODIFIED:20251012T225833Z
UID:10004519-1764514800-1764522000@www.lvtemple.org
SUMMARY:Annamacharya Kriti Workshop
DESCRIPTION:
URL:https://www.lvtemple.org/event/annamacharya-kriti-workshop/2025-11-30/
LOCATION:SVETA LV Temple\, Lakshmi Venkateswara Temple\, 18109 NE 76th St\, STE#105\, Redmond\, WA\, 98052\, United States
CATEGORIES:Cultural
ATTACH;FMTTYPE=image/jpeg:https://www.lvtemple.org/wp-content/uploads/2025/10/7695b2eb-e038-4ea0-918a-b63aa1ea5464.jpeg
END:VEVENT
BEGIN:VEVENT
DTSTART;TZID=America/Los_Angeles:20251202T190000
DTEND;TZID=America/Los_Angeles:20251202T203000
DTSTAMP:20260423T103759
CREATED:20250104T183803Z
LAST-MODIFIED:20251231T185918Z
UID:10003848-1764702000-1764707400@www.lvtemple.org
SUMMARY:Hanuman Abhishekam
DESCRIPTION:
URL:https://www.lvtemple.org/event/hanuman-abhishekam-2/2025-12-02/
LOCATION:SVETA LV Temple\, Lakshmi Venkateswara Temple\, 18109 NE 76th St\, STE#105\, Redmond\, WA\, 98052\, United States
ATTACH;FMTTYPE=image/jpeg:https://www.lvtemple.org/wp-content/uploads/2025/01/Event-Flyers-4-1.jpg
END:VEVENT
BEGIN:VEVENT
DTSTART;TZID=America/Los_Angeles:20251202T190000
DTEND;TZID=America/Los_Angeles:20251202T203000
DTSTAMP:20260423T103759
CREATED:20250104T192431Z
LAST-MODIFIED:20250120T162600Z
UID:10003897-1764702000-1764707400@www.lvtemple.org
SUMMARY:Pradosham Shiva Rudrabhishekam
DESCRIPTION:
URL:https://www.lvtemple.org/event/pradosham-shiva-rudrabhishekam/2025-12-02/
LOCATION:SVETA LV Temple\, Lakshmi Venkateswara Temple\, 18109 NE 76th St\, STE#105\, Redmond\, WA\, 98052\, United States
ATTACH;FMTTYPE=image/jpeg:https://www.lvtemple.org/wp-content/uploads/2025/01/Event-Flyers-2-1.jpg
END:VEVENT
BEGIN:VEVENT
DTSTART;TZID=America/Los_Angeles:20251203T190000
DTEND;TZID=America/Los_Angeles:20251203T210000
DTSTAMP:20260423T103759
CREATED:20250104T185340Z
LAST-MODIFIED:20250719T044047Z
UID:10003862-1764788400-1764795600@www.lvtemple.org
SUMMARY:Subrahmanya Abhishekam
DESCRIPTION:
URL:https://www.lvtemple.org/event/subrahmanya-abhishekam-2/2025-12-03/
LOCATION:SVETA LV Temple\, Lakshmi Venkateswara Temple\, 18109 NE 76th St\, STE#105\, Redmond\, WA\, 98052\, United States
ATTACH;FMTTYPE=image/jpeg:https://www.lvtemple.org/wp-content/uploads/2025/01/Event-Flyers-5-1.jpg
END:VEVENT
BEGIN:VEVENT
DTSTART;TZID=America/Los_Angeles:20251204T180000
DTEND;TZID=America/Los_Angeles:20251204T200000
DTSTAMP:20260423T103759
CREATED:20251126T010254Z
LAST-MODIFIED:20251126T010254Z
UID:10004591-1764871200-1764878400@www.lvtemple.org
SUMMARY:Dattatreya Jayanti-Sri Dattatreya Homam
DESCRIPTION:
URL:https://www.lvtemple.org/event/dattatreya-jayanti-sri-dattatreya-homam/
LOCATION:SVETA LV Temple\, Lakshmi Venkateswara Temple\, 18109 NE 76th St\, STE#105\, Redmond\, WA\, 98052\, United States
ATTACH;FMTTYPE=image/jpeg:https://www.lvtemple.org/wp-content/uploads/2025/11/Event-Flyers-2025-11-25T165222.213.jpg
END:VEVENT
BEGIN:VEVENT
DTSTART;TZID=America/Los_Angeles:20251206T100000
DTEND;TZID=America/Los_Angeles:20251206T140000
DTSTAMP:20260423T103759
CREATED:20231230T050110Z
LAST-MODIFIED:20251231T184052Z
UID:10003818-1765015200-1765029600@www.lvtemple.org
SUMMARY:Lakshmi Venkateswara\, Maha Lakshmi & Andal Abhishekam/Tirumanjanam
DESCRIPTION:
URL:https://www.lvtemple.org/event/lakshmi-venkateswara-maha-lakshmi-andal-abhishekam-tirumanjanam-3/2025-12-06/
LOCATION:SVETA LV Temple\, Lakshmi Venkateswara Temple\, 18109 NE 76th St\, STE#105\, Redmond\, WA\, 98052\, United States
ATTACH;FMTTYPE=image/jpeg:https://www.lvtemple.org/wp-content/uploads/2022/12/Event-Flyers-2.jpg
END:VEVENT
BEGIN:VEVENT
DTSTART;TZID=America/Los_Angeles:20251206T100000
DTEND;TZID=America/Los_Angeles:20251206T140000
DTSTAMP:20260423T103759
CREATED:20251231T183455Z
LAST-MODIFIED:20251231T183455Z
UID:10005082-1765015200-1765029600@www.lvtemple.org
SUMMARY:2026 - Lakshmi Venkateswara\, Maha Lakshmi & Andal Abhishekam/Tirumanjanam
DESCRIPTION:
URL:https://www.lvtemple.org/event/2026-lakshmi-venkateswara-maha-lakshmi-andal-abhishekam-tirumanjanam/2025-12-06/
LOCATION:SVETA LV Temple\, Lakshmi Venkateswara Temple\, 18109 NE 76th St\, STE#105\, Redmond\, WA\, 98052\, United States
ATTACH;FMTTYPE=image/jpeg:https://www.lvtemple.org/wp-content/uploads/2022/12/Event-Flyers-2.jpg
END:VEVENT
END:VCALENDAR