

BEGIN:VCALENDAR
VERSION:2.0
PRODID:-//Home - ECPv6.15.20//NONSGML v1.0//EN
CALSCALE:GREGORIAN
METHOD:PUBLISH
X-WR-CALNAME:Home
X-ORIGINAL-URL:https://www.lvtemple.org
X-WR-CALDESC:Events for Home
REFRESH-INTERVAL;VALUE=DURATION:PT1H
X-Robots-Tag:noindex
X-PUBLISHED-TTL:PT1H
BEGIN:VTIMEZONE
TZID:America/Los_Angeles
BEGIN:DAYLIGHT
TZOFFSETFROM:-0800
TZOFFSETTO:-0700
TZNAME:PDT
DTSTART:20250309T100000
END:DAYLIGHT
BEGIN:STANDARD
TZOFFSETFROM:-0700
TZOFFSETTO:-0800
TZNAME:PST
DTSTART:20251102T090000
END:STANDARD
BEGIN:DAYLIGHT
TZOFFSETFROM:-0800
TZOFFSETTO:-0700
TZNAME:PDT
DTSTART:20260308T100000
END:DAYLIGHT
BEGIN:STANDARD
TZOFFSETFROM:-0700
TZOFFSETTO:-0800
TZNAME:PST
DTSTART:20261101T090000
END:STANDARD
BEGIN:DAYLIGHT
TZOFFSETFROM:-0800
TZOFFSETTO:-0700
TZNAME:PDT
DTSTART:20270314T100000
END:DAYLIGHT
BEGIN:STANDARD
TZOFFSETFROM:-0700
TZOFFSETTO:-0800
TZNAME:PST
DTSTART:20271107T090000
END:STANDARD
END:VTIMEZONE
BEGIN:VEVENT
DTSTART;TZID=America/Los_Angeles:20260104T060000
DTEND;TZID=America/Los_Angeles:20260104T073000
DTSTAMP:20260423T091015
CREATED:20251210T013857Z
LAST-MODIFIED:20251227T042008Z
UID:10004638-1767506400-1767511800@www.lvtemple.org
SUMMARY:Dhanurmasa-Margazhi Utsavam
DESCRIPTION:
URL:https://www.lvtemple.org/event/dhanurmasa-margazhi-utsavam-4/2026-01-04/
LOCATION:SVETA LV Temple\, Lakshmi Venkateswara Temple\, 18109 NE 76th St\, STE#105\, Redmond\, WA\, 98052\, United States
ATTACH;FMTTYPE=image/jpeg:https://www.lvtemple.org/wp-content/uploads/2025/12/event-flyers-2025-12-09t172848-572.jpg
END:VEVENT
BEGIN:VEVENT
DTSTART;TZID=America/Los_Angeles:20260105T060000
DTEND;TZID=America/Los_Angeles:20260105T073000
DTSTAMP:20260423T091015
CREATED:20251210T013857Z
LAST-MODIFIED:20251227T042008Z
UID:10004639-1767592800-1767598200@www.lvtemple.org
SUMMARY:Dhanurmasa-Margazhi Utsavam
DESCRIPTION:
URL:https://www.lvtemple.org/event/dhanurmasa-margazhi-utsavam-4/2026-01-05/
LOCATION:SVETA LV Temple\, Lakshmi Venkateswara Temple\, 18109 NE 76th St\, STE#105\, Redmond\, WA\, 98052\, United States
ATTACH;FMTTYPE=image/jpeg:https://www.lvtemple.org/wp-content/uploads/2025/12/event-flyers-2025-12-09t172848-572.jpg
END:VEVENT
BEGIN:VEVENT
DTSTART;TZID=America/Los_Angeles:20260105T190000
DTEND;TZID=America/Los_Angeles:20260105T203000
DTSTAMP:20260423T091015
CREATED:20251231T185702Z
LAST-MODIFIED:20251231T185703Z
UID:10005096-1767639600-1767645000@www.lvtemple.org
SUMMARY:2026 - Siddhi Vinayaka Abhishekam
DESCRIPTION:
URL:https://www.lvtemple.org/event/2026-siddhi-vinayaka-abhishekam/2026-01-05/
LOCATION:SVETA LV Temple\, Lakshmi Venkateswara Temple\, 18109 NE 76th St\, STE#105\, Redmond\, WA\, 98052\, United States
ATTACH;FMTTYPE=image/jpeg:https://www.lvtemple.org/wp-content/uploads/2025/12/whatsapp-image-2025-01-04-at-8-11-14-pm-1.jpeg
END:VEVENT
BEGIN:VEVENT
DTSTART;TZID=America/Los_Angeles:20260106T060000
DTEND;TZID=America/Los_Angeles:20260106T073000
DTSTAMP:20260423T091015
CREATED:20251210T013857Z
LAST-MODIFIED:20251227T042008Z
UID:10004640-1767679200-1767684600@www.lvtemple.org
SUMMARY:Dhanurmasa-Margazhi Utsavam
DESCRIPTION:
URL:https://www.lvtemple.org/event/dhanurmasa-margazhi-utsavam-4/2026-01-06/
LOCATION:SVETA LV Temple\, Lakshmi Venkateswara Temple\, 18109 NE 76th St\, STE#105\, Redmond\, WA\, 98052\, United States
ATTACH;FMTTYPE=image/jpeg:https://www.lvtemple.org/wp-content/uploads/2025/12/event-flyers-2025-12-09t172848-572.jpg
END:VEVENT
BEGIN:VEVENT
DTSTART;TZID=America/Los_Angeles:20260106T193000
DTEND;TZID=America/Los_Angeles:20260106T200000
DTSTAMP:20260423T091015
CREATED:20251231T190308Z
LAST-MODIFIED:20260301T203054Z
UID:10005246-1767727800-1767729600@www.lvtemple.org
SUMMARY:2026 - Anjaneya Abhishekam
DESCRIPTION:
URL:https://www.lvtemple.org/event/2026-anjaneya-abhishekam/2026-01-06/
LOCATION:SVETA LV Temple\, Lakshmi Venkateswara Temple\, 18109 NE 76th St\, STE#105\, Redmond\, WA\, 98052\, United States
ATTACH;FMTTYPE=image/jpeg:https://www.lvtemple.org/wp-content/uploads/2025/12/event-flyers-4-1-1.jpg
END:VEVENT
BEGIN:VEVENT
DTSTART;TZID=America/Los_Angeles:20260107T060000
DTEND;TZID=America/Los_Angeles:20260107T073000
DTSTAMP:20260423T091015
CREATED:20251210T013857Z
LAST-MODIFIED:20251227T042008Z
UID:10004641-1767765600-1767771000@www.lvtemple.org
SUMMARY:Dhanurmasa-Margazhi Utsavam
DESCRIPTION:
URL:https://www.lvtemple.org/event/dhanurmasa-margazhi-utsavam-4/2026-01-07/
LOCATION:SVETA LV Temple\, Lakshmi Venkateswara Temple\, 18109 NE 76th St\, STE#105\, Redmond\, WA\, 98052\, United States
ATTACH;FMTTYPE=image/jpeg:https://www.lvtemple.org/wp-content/uploads/2025/12/event-flyers-2025-12-09t172848-572.jpg
END:VEVENT
BEGIN:VEVENT
DTSTART;TZID=America/Los_Angeles:20260108T060000
DTEND;TZID=America/Los_Angeles:20260108T073000
DTSTAMP:20260423T091015
CREATED:20251210T013857Z
LAST-MODIFIED:20251227T042008Z
UID:10004642-1767852000-1767857400@www.lvtemple.org
SUMMARY:Dhanurmasa-Margazhi Utsavam
DESCRIPTION:
URL:https://www.lvtemple.org/event/dhanurmasa-margazhi-utsavam-4/2026-01-08/
LOCATION:SVETA LV Temple\, Lakshmi Venkateswara Temple\, 18109 NE 76th St\, STE#105\, Redmond\, WA\, 98052\, United States
ATTACH;FMTTYPE=image/jpeg:https://www.lvtemple.org/wp-content/uploads/2025/12/event-flyers-2025-12-09t172848-572.jpg
END:VEVENT
BEGIN:VEVENT
DTSTART;TZID=America/Los_Angeles:20260109T060000
DTEND;TZID=America/Los_Angeles:20260109T073000
DTSTAMP:20260423T091015
CREATED:20251210T013857Z
LAST-MODIFIED:20251227T042008Z
UID:10004643-1767938400-1767943800@www.lvtemple.org
SUMMARY:Dhanurmasa-Margazhi Utsavam
DESCRIPTION:
URL:https://www.lvtemple.org/event/dhanurmasa-margazhi-utsavam-4/2026-01-09/
LOCATION:SVETA LV Temple\, Lakshmi Venkateswara Temple\, 18109 NE 76th St\, STE#105\, Redmond\, WA\, 98052\, United States
ATTACH;FMTTYPE=image/jpeg:https://www.lvtemple.org/wp-content/uploads/2025/12/event-flyers-2025-12-09t172848-572.jpg
END:VEVENT
BEGIN:VEVENT
DTSTART;TZID=America/Los_Angeles:20260110T060000
DTEND;TZID=America/Los_Angeles:20260110T073000
DTSTAMP:20260423T091015
CREATED:20251210T013857Z
LAST-MODIFIED:20251227T042008Z
UID:10004644-1768024800-1768030200@www.lvtemple.org
SUMMARY:Dhanurmasa-Margazhi Utsavam
DESCRIPTION:
URL:https://www.lvtemple.org/event/dhanurmasa-margazhi-utsavam-4/2026-01-10/
LOCATION:SVETA LV Temple\, Lakshmi Venkateswara Temple\, 18109 NE 76th St\, STE#105\, Redmond\, WA\, 98052\, United States
ATTACH;FMTTYPE=image/jpeg:https://www.lvtemple.org/wp-content/uploads/2025/12/event-flyers-2025-12-09t172848-572.jpg
END:VEVENT
END:VCALENDAR