

BEGIN:VCALENDAR
VERSION:2.0
PRODID:-//Home - ECPv6.15.20//NONSGML v1.0//EN
CALSCALE:GREGORIAN
METHOD:PUBLISH
X-WR-CALNAME:Home
X-ORIGINAL-URL:https://www.lvtemple.org
X-WR-CALDESC:Events for Home
REFRESH-INTERVAL;VALUE=DURATION:PT1H
X-Robots-Tag:noindex
X-PUBLISHED-TTL:PT1H
BEGIN:VTIMEZONE
TZID:America/Los_Angeles
BEGIN:DAYLIGHT
TZOFFSETFROM:-0800
TZOFFSETTO:-0700
TZNAME:PDT
DTSTART:20250309T100000
END:DAYLIGHT
BEGIN:STANDARD
TZOFFSETFROM:-0700
TZOFFSETTO:-0800
TZNAME:PST
DTSTART:20251102T090000
END:STANDARD
BEGIN:DAYLIGHT
TZOFFSETFROM:-0800
TZOFFSETTO:-0700
TZNAME:PDT
DTSTART:20260308T100000
END:DAYLIGHT
BEGIN:STANDARD
TZOFFSETFROM:-0700
TZOFFSETTO:-0800
TZNAME:PST
DTSTART:20261101T090000
END:STANDARD
BEGIN:DAYLIGHT
TZOFFSETFROM:-0800
TZOFFSETTO:-0700
TZNAME:PDT
DTSTART:20270314T100000
END:DAYLIGHT
BEGIN:STANDARD
TZOFFSETFROM:-0700
TZOFFSETTO:-0800
TZNAME:PST
DTSTART:20271107T090000
END:STANDARD
END:VTIMEZONE
BEGIN:VEVENT
DTSTART;TZID=America/Los_Angeles:20260111T060000
DTEND;TZID=America/Los_Angeles:20260111T073000
DTSTAMP:20260423T103759
CREATED:20251210T013857Z
LAST-MODIFIED:20251227T042008Z
UID:10004645-1768111200-1768116600@www.lvtemple.org
SUMMARY:Dhanurmasa-Margazhi Utsavam
DESCRIPTION:
URL:https://www.lvtemple.org/event/dhanurmasa-margazhi-utsavam-4/2026-01-11/
LOCATION:SVETA LV Temple\, Lakshmi Venkateswara Temple\, 18109 NE 76th St\, STE#105\, Redmond\, WA\, 98052\, United States
ATTACH;FMTTYPE=image/jpeg:https://www.lvtemple.org/wp-content/uploads/2025/12/event-flyers-2025-12-09t172848-572.jpg
END:VEVENT
BEGIN:VEVENT
DTSTART;TZID=America/Los_Angeles:20260111T190000
DTEND;TZID=America/Los_Angeles:20260111T203000
DTSTAMP:20260423T103759
CREATED:20251231T191844Z
LAST-MODIFIED:20251231T191845Z
UID:10005120-1768158000-1768163400@www.lvtemple.org
SUMMARY:2026 - Narasimha Abhishekam
DESCRIPTION:
URL:https://www.lvtemple.org/event/2026-narasimha-abhishekam/2026-01-11/
LOCATION:SVETA LV Temple\, Lakshmi Venkateswara Temple\, 18109 NE 76th St\, STE#105\, Redmond\, WA\, 98052\, United States
ATTACH;FMTTYPE=image/jpeg:https://www.lvtemple.org/wp-content/uploads/2025/12/event-flyers-6-1-1.jpg
END:VEVENT
BEGIN:VEVENT
DTSTART;TZID=America/Los_Angeles:20260112T060000
DTEND;TZID=America/Los_Angeles:20260112T073000
DTSTAMP:20260423T103759
CREATED:20251210T013857Z
LAST-MODIFIED:20251227T042008Z
UID:10004646-1768197600-1768203000@www.lvtemple.org
SUMMARY:Dhanurmasa-Margazhi Utsavam
DESCRIPTION:
URL:https://www.lvtemple.org/event/dhanurmasa-margazhi-utsavam-4/2026-01-12/
LOCATION:SVETA LV Temple\, Lakshmi Venkateswara Temple\, 18109 NE 76th St\, STE#105\, Redmond\, WA\, 98052\, United States
ATTACH;FMTTYPE=image/jpeg:https://www.lvtemple.org/wp-content/uploads/2025/12/event-flyers-2025-12-09t172848-572.jpg
END:VEVENT
BEGIN:VEVENT
DTSTART;TZID=America/Los_Angeles:20260113T060000
DTEND;TZID=America/Los_Angeles:20260113T073000
DTSTAMP:20260423T103759
CREATED:20251210T013857Z
LAST-MODIFIED:20251227T042008Z
UID:10004647-1768284000-1768289400@www.lvtemple.org
SUMMARY:Dhanurmasa-Margazhi Utsavam
DESCRIPTION:
URL:https://www.lvtemple.org/event/dhanurmasa-margazhi-utsavam-4/2026-01-13/
LOCATION:SVETA LV Temple\, Lakshmi Venkateswara Temple\, 18109 NE 76th St\, STE#105\, Redmond\, WA\, 98052\, United States
ATTACH;FMTTYPE=image/jpeg:https://www.lvtemple.org/wp-content/uploads/2025/12/event-flyers-2025-12-09t172848-572.jpg
END:VEVENT
BEGIN:VEVENT
DTSTART;TZID=America/Los_Angeles:20260113T183000
DTEND;TZID=America/Los_Angeles:20260113T203000
DTSTAMP:20260423T103759
CREATED:20260109T221700Z
LAST-MODIFIED:20260109T221700Z
UID:10005193-1768329000-1768336200@www.lvtemple.org
SUMMARY:Bhogi-Goda Kalyanam
DESCRIPTION:
URL:https://www.lvtemple.org/event/bhogi-goda-kalyanam-2/
LOCATION:SVETA LV Temple\, Lakshmi Venkateswara Temple\, 18109 NE 76th St\, STE#105\, Redmond\, WA\, 98052\, United States
ATTACH;FMTTYPE=image/jpeg:https://www.lvtemple.org/wp-content/uploads/2026/01/event-flyers-2026-01-08t225209-437.jpg
END:VEVENT
BEGIN:VEVENT
DTSTART;TZID=America/Los_Angeles:20260113T183000
DTEND;TZID=America/Los_Angeles:20260113T203000
DTSTAMP:20260423T103759
CREATED:20260110T043157Z
LAST-MODIFIED:20260110T043157Z
UID:10005195-1768329000-1768336200@www.lvtemple.org
SUMMARY:Bhogi - Goda Kalyanam
DESCRIPTION:
URL:https://www.lvtemple.org/event/bhogi-goda-kalyanam-3/
LOCATION:SVETA LV Temple\, Lakshmi Venkateswara Temple\, 18109 NE 76th St\, STE#105\, Redmond\, WA\, 98052\, United States
ATTACH;FMTTYPE=image/png:https://www.lvtemple.org/wp-content/uploads/2026/01/event-flyers-2026-01-09t202044-618.png
END:VEVENT
BEGIN:VEVENT
DTSTART;TZID=America/Los_Angeles:20260113T190000
DTEND;TZID=America/Los_Angeles:20260113T200000
DTSTAMP:20260423T103759
CREATED:20260112T075930Z
LAST-MODIFIED:20260112T080014Z
UID:10005200-1768330800-1768334400@www.lvtemple.org
SUMMARY:Bhogi pallu
DESCRIPTION:
URL:https://www.lvtemple.org/event/bhogi-pallu-2/
LOCATION:SVETA LV Temple\, Lakshmi Venkateswara Temple\, 18109 NE 76th St\, STE#105\, Redmond\, WA\, 98052\, United States
ATTACH;FMTTYPE=image/jpeg:https://www.lvtemple.org/wp-content/uploads/2026/01/event-flyers-2026-01-11t234928-651.jpg
END:VEVENT
BEGIN:VEVENT
DTSTART;VALUE=DATE:20260114
DTEND;VALUE=DATE:20260115
DTSTAMP:20260423T103759
CREATED:20260109T221942Z
LAST-MODIFIED:20260109T221942Z
UID:10005194-1768348800-1768435199@www.lvtemple.org
SUMMARY:Makara Sankranti-Pongal
DESCRIPTION:
URL:https://www.lvtemple.org/event/makara-sankranti-pongal/
LOCATION:SVETA LV Temple\, Lakshmi Venkateswara Temple\, 18109 NE 76th St\, STE#105\, Redmond\, WA\, 98052\, United States
ATTACH;FMTTYPE=image/jpeg:https://www.lvtemple.org/wp-content/uploads/2026/01/event-flyers-2026-01-08t230815-913.jpg
END:VEVENT
BEGIN:VEVENT
DTSTART;TZID=America/Los_Angeles:20260114T080000
DTEND;TZID=America/Los_Angeles:20260114T110000
DTSTAMP:20260423T103759
CREATED:20260110T043347Z
LAST-MODIFIED:20260110T043348Z
UID:10005196-1768377600-1768388400@www.lvtemple.org
SUMMARY:Makara Sankranthi Celebrations
DESCRIPTION:
URL:https://www.lvtemple.org/event/makara-sankranthi-celebrations/
LOCATION:SVETA LV Temple\, Lakshmi Venkateswara Temple\, 18109 NE 76th St\, STE#105\, Redmond\, WA\, 98052\, United States
ATTACH;FMTTYPE=image/png:https://www.lvtemple.org/wp-content/uploads/2026/01/event-flyers-2026-01-09t202114-044.png
END:VEVENT
BEGIN:VEVENT
DTSTART;TZID=America/Los_Angeles:20260115T190000
DTEND;TZID=America/Los_Angeles:20260115T203000
DTSTAMP:20260423T103759
CREATED:20251231T193545Z
LAST-MODIFIED:20251231T193546Z
UID:10005132-1768503600-1768509000@www.lvtemple.org
SUMMARY:2026 - Pradosham Shiva Rudrabhishekam
DESCRIPTION:
URL:https://www.lvtemple.org/event/2026-pradosham-shiva-rudrabhishekam/2026-01-15/
LOCATION:SVETA LV Temple\, Lakshmi Venkateswara Temple\, 18109 NE 76th St\, STE#105\, Redmond\, WA\, 98052\, United States
ATTACH;FMTTYPE=image/jpeg:https://www.lvtemple.org/wp-content/uploads/2025/12/event-flyers-2-1-1.jpg
END:VEVENT
END:VCALENDAR