

BEGIN:VCALENDAR
VERSION:2.0
PRODID:-//Home - ECPv6.15.20//NONSGML v1.0//EN
CALSCALE:GREGORIAN
METHOD:PUBLISH
X-WR-CALNAME:Home
X-ORIGINAL-URL:https://www.lvtemple.org
X-WR-CALDESC:Events for Home
REFRESH-INTERVAL;VALUE=DURATION:PT1H
X-Robots-Tag:noindex
X-PUBLISHED-TTL:PT1H
BEGIN:VTIMEZONE
TZID:America/Los_Angeles
BEGIN:DAYLIGHT
TZOFFSETFROM:-0800
TZOFFSETTO:-0700
TZNAME:PDT
DTSTART:20250309T100000
END:DAYLIGHT
BEGIN:STANDARD
TZOFFSETFROM:-0700
TZOFFSETTO:-0800
TZNAME:PST
DTSTART:20251102T090000
END:STANDARD
BEGIN:DAYLIGHT
TZOFFSETFROM:-0800
TZOFFSETTO:-0700
TZNAME:PDT
DTSTART:20260308T100000
END:DAYLIGHT
BEGIN:STANDARD
TZOFFSETFROM:-0700
TZOFFSETTO:-0800
TZNAME:PST
DTSTART:20261101T090000
END:STANDARD
BEGIN:DAYLIGHT
TZOFFSETFROM:-0800
TZOFFSETTO:-0700
TZNAME:PDT
DTSTART:20270314T100000
END:DAYLIGHT
BEGIN:STANDARD
TZOFFSETFROM:-0700
TZOFFSETTO:-0800
TZNAME:PST
DTSTART:20271107T090000
END:STANDARD
END:VTIMEZONE
BEGIN:VEVENT
DTSTART;TZID=America/Los_Angeles:20260223T190000
DTEND;TZID=America/Los_Angeles:20260223T203000
DTSTAMP:20260423T191630
CREATED:20251231T202951Z
LAST-MODIFIED:20251231T202951Z
UID:10005177-1771873200-1771878600@www.lvtemple.org
SUMMARY:2026 - Subrahmanya Abhishekam
DESCRIPTION:
URL:https://www.lvtemple.org/event/2026-subrahmanya-abhishekam/2026-02-23/
LOCATION:SVETA LV Temple\, Lakshmi Venkateswara Temple\, 18109 NE 76th St\, STE#105\, Redmond\, WA\, 98052\, United States
ATTACH;FMTTYPE=image/jpeg:https://www.lvtemple.org/wp-content/uploads/2025/01/Event-Flyers-5-1.jpg
END:VEVENT
BEGIN:VEVENT
DTSTART;TZID=America/Los_Angeles:20260227T100000
DTEND;TZID=America/Los_Angeles:20260227T110000
DTSTAMP:20260423T191630
CREATED:20251231T201628Z
LAST-MODIFIED:20260102T173354Z
UID:10005165-1772186400-1772190000@www.lvtemple.org
SUMMARY:2026 - Sri Rama Abhishekam
DESCRIPTION:
URL:https://www.lvtemple.org/event/2026-sri-rama-abhishekam/2026-02-27/
LOCATION:SVETA LV Temple\, Lakshmi Venkateswara Temple\, 18109 NE 76th St\, STE#105\, Redmond\, WA\, 98052\, United States
ATTACH;FMTTYPE=image/png:https://www.lvtemple.org/wp-content/uploads/2025/12/event-flyers-2026-01-02t093208-606.png
END:VEVENT
BEGIN:VEVENT
DTSTART;TZID=America/Los_Angeles:20260227T100000
DTEND;TZID=America/Los_Angeles:20260227T130000
DTSTAMP:20260423T191630
CREATED:20260208T013204Z
LAST-MODIFIED:20260208T013205Z
UID:10005215-1772186400-1772197200@www.lvtemple.org
SUMMARY:2026 Sri Rama Abhishekam (Ramayana Parayanam)
DESCRIPTION:
URL:https://www.lvtemple.org/event/2026-sri-rama-abhishekam-ramayana-parayanam/
LOCATION:SVETA LV Temple\, Lakshmi Venkateswara Temple\, 18109 NE 76th St\, STE#105\, Redmond\, WA\, 98052\, United States
ATTACH;FMTTYPE=image/png:https://www.lvtemple.org/wp-content/uploads/2026/02/event-flyers-2026-02-07t172452-473.png
END:VEVENT
BEGIN:VEVENT
DTSTART;TZID=America/Los_Angeles:20260227T183000
DTEND;TZID=America/Los_Angeles:20260227T203000
DTSTAMP:20260423T191630
CREATED:20260208T032830Z
LAST-MODIFIED:20260208T032947Z
UID:10005216-1772217000-1772224200@www.lvtemple.org
SUMMARY:2026 Sakala Kaarya Siddhi Srimad Ramayana Parayanam
DESCRIPTION:
URL:https://www.lvtemple.org/event/10001/2026-02-27/
LOCATION:SVETA LV Temple\, Lakshmi Venkateswara Temple\, 18109 NE 76th St\, STE#105\, Redmond\, WA\, 98052\, United States
ATTACH;FMTTYPE=image/png:https://www.lvtemple.org/wp-content/uploads/2026/02/event-flyers-2026-02-07t172452-473.png
END:VEVENT
BEGIN:VEVENT
DTSTART;TZID=America/Los_Angeles:20260228T183000
DTEND;TZID=America/Los_Angeles:20260228T203000
DTSTAMP:20260423T191630
CREATED:20260208T032830Z
LAST-MODIFIED:20260208T032947Z
UID:10005217-1772303400-1772310600@www.lvtemple.org
SUMMARY:2026 Sakala Kaarya Siddhi Srimad Ramayana Parayanam
DESCRIPTION:
URL:https://www.lvtemple.org/event/10001/2026-02-28/
LOCATION:SVETA LV Temple\, Lakshmi Venkateswara Temple\, 18109 NE 76th St\, STE#105\, Redmond\, WA\, 98052\, United States
ATTACH;FMTTYPE=image/png:https://www.lvtemple.org/wp-content/uploads/2026/02/event-flyers-2026-02-07t172452-473.png
END:VEVENT
BEGIN:VEVENT
DTSTART;TZID=America/Los_Angeles:20260228T190000
DTEND;TZID=America/Los_Angeles:20260228T203000
DTSTAMP:20260423T191630
CREATED:20251231T193545Z
LAST-MODIFIED:20251231T193546Z
UID:10005135-1772305200-1772310600@www.lvtemple.org
SUMMARY:2026 - Pradosham Shiva Rudrabhishekam
DESCRIPTION:
URL:https://www.lvtemple.org/event/2026-pradosham-shiva-rudrabhishekam/2026-02-28/
LOCATION:SVETA LV Temple\, Lakshmi Venkateswara Temple\, 18109 NE 76th St\, STE#105\, Redmond\, WA\, 98052\, United States
ATTACH;FMTTYPE=image/jpeg:https://www.lvtemple.org/wp-content/uploads/2025/12/event-flyers-2-1-1.jpg
END:VEVENT
END:VCALENDAR