

BEGIN:VCALENDAR
VERSION:2.0
PRODID:-//Home - ECPv6.15.20//NONSGML v1.0//EN
CALSCALE:GREGORIAN
METHOD:PUBLISH
X-ORIGINAL-URL:https://www.lvtemple.org
X-WR-CALDESC:Events for Home
REFRESH-INTERVAL;VALUE=DURATION:PT1H
X-Robots-Tag:noindex
X-PUBLISHED-TTL:PT1H
BEGIN:VTIMEZONE
TZID:America/Los_Angeles
BEGIN:DAYLIGHT
TZOFFSETFROM:-0800
TZOFFSETTO:-0700
TZNAME:PDT
DTSTART:20250309T100000
END:DAYLIGHT
BEGIN:STANDARD
TZOFFSETFROM:-0700
TZOFFSETTO:-0800
TZNAME:PST
DTSTART:20251102T090000
END:STANDARD
BEGIN:DAYLIGHT
TZOFFSETFROM:-0800
TZOFFSETTO:-0700
TZNAME:PDT
DTSTART:20260308T100000
END:DAYLIGHT
BEGIN:STANDARD
TZOFFSETFROM:-0700
TZOFFSETTO:-0800
TZNAME:PST
DTSTART:20261101T090000
END:STANDARD
BEGIN:DAYLIGHT
TZOFFSETFROM:-0800
TZOFFSETTO:-0700
TZNAME:PDT
DTSTART:20270314T100000
END:DAYLIGHT
BEGIN:STANDARD
TZOFFSETFROM:-0700
TZOFFSETTO:-0800
TZNAME:PST
DTSTART:20271107T090000
END:STANDARD
END:VTIMEZONE
BEGIN:VEVENT
DTSTART;TZID=America/Los_Angeles:20260301T183000
DTEND;TZID=America/Los_Angeles:20260301T203000
DTSTAMP:20260423T205338
CREATED:20260208T032830Z
LAST-MODIFIED:20260208T032947Z
UID:10005218-1772389800-1772397000@www.lvtemple.org
SUMMARY:2026 Sakala Kaarya Siddhi Srimad Ramayana Parayanam
DESCRIPTION:
URL:https://www.lvtemple.org/event/10001/2026-03-01/
LOCATION:SVETA LV Temple\, Lakshmi Venkateswara Temple\, 18109 NE 76th St\, STE#105\, Redmond\, WA\, 98052\, United States
ATTACH;FMTTYPE=image/png:https://www.lvtemple.org/wp-content/uploads/2026/02/event-flyers-2026-02-07t172452-473.png
END:VEVENT
BEGIN:VEVENT
DTSTART;TZID=America/Los_Angeles:20260302T183000
DTEND;TZID=America/Los_Angeles:20260302T203000
DTSTAMP:20260423T205338
CREATED:20260208T032830Z
LAST-MODIFIED:20260208T032947Z
UID:10005219-1772476200-1772483400@www.lvtemple.org
SUMMARY:2026 Sakala Kaarya Siddhi Srimad Ramayana Parayanam
DESCRIPTION:
URL:https://www.lvtemple.org/event/10001/2026-03-02/
LOCATION:SVETA LV Temple\, Lakshmi Venkateswara Temple\, 18109 NE 76th St\, STE#105\, Redmond\, WA\, 98052\, United States
ATTACH;FMTTYPE=image/png:https://www.lvtemple.org/wp-content/uploads/2026/02/event-flyers-2026-02-07t172452-473.png
END:VEVENT
BEGIN:VEVENT
DTSTART;TZID=America/Los_Angeles:20260303T180000
DTEND;TZID=America/Los_Angeles:20260303T200000
DTSTAMP:20260423T205338
CREATED:20260225T192039Z
LAST-MODIFIED:20260225T192039Z
UID:10005244-1772560800-1772568000@www.lvtemple.org
SUMMARY:Total Lunar Eclipse-Grahana Shanti Homam
DESCRIPTION:
URL:https://www.lvtemple.org/event/total-lunar-eclipse-grahana-shanti-homam/
LOCATION:SVETA LV Temple\, Lakshmi Venkateswara Temple\, 18109 NE 76th St\, STE#105\, Redmond\, WA\, 98052\, United States
ATTACH;FMTTYPE=image/jpeg:https://www.lvtemple.org/wp-content/uploads/2026/02/event-flyers-2026-02-25t111149-322.jpg
END:VEVENT
BEGIN:VEVENT
DTSTART;TZID=America/Los_Angeles:20260303T183000
DTEND;TZID=America/Los_Angeles:20260303T203000
DTSTAMP:20260423T205338
CREATED:20260208T032830Z
LAST-MODIFIED:20260208T032947Z
UID:10005220-1772562600-1772569800@www.lvtemple.org
SUMMARY:2026 Sakala Kaarya Siddhi Srimad Ramayana Parayanam
DESCRIPTION:
URL:https://www.lvtemple.org/event/10001/2026-03-03/
LOCATION:SVETA LV Temple\, Lakshmi Venkateswara Temple\, 18109 NE 76th St\, STE#105\, Redmond\, WA\, 98052\, United States
ATTACH;FMTTYPE=image/png:https://www.lvtemple.org/wp-content/uploads/2026/02/event-flyers-2026-02-07t172452-473.png
END:VEVENT
BEGIN:VEVENT
DTSTART;TZID=America/Los_Angeles:20260303T193000
DTEND;TZID=America/Los_Angeles:20260303T200000
DTSTAMP:20260423T205338
CREATED:20251231T190308Z
LAST-MODIFIED:20260301T203054Z
UID:10005248-1772566200-1772568000@www.lvtemple.org
SUMMARY:2026 - Anjaneya Abhishekam
DESCRIPTION:
URL:https://www.lvtemple.org/event/2026-anjaneya-abhishekam/2026-03-03/
LOCATION:SVETA LV Temple\, Lakshmi Venkateswara Temple\, 18109 NE 76th St\, STE#105\, Redmond\, WA\, 98052\, United States
ATTACH;FMTTYPE=image/jpeg:https://www.lvtemple.org/wp-content/uploads/2025/12/event-flyers-4-1-1.jpg
END:VEVENT
BEGIN:VEVENT
DTSTART;TZID=America/Los_Angeles:20260304T183000
DTEND;TZID=America/Los_Angeles:20260304T203000
DTSTAMP:20260423T205338
CREATED:20260208T032830Z
LAST-MODIFIED:20260208T032947Z
UID:10005221-1772649000-1772656200@www.lvtemple.org
SUMMARY:2026 Sakala Kaarya Siddhi Srimad Ramayana Parayanam
DESCRIPTION:
URL:https://www.lvtemple.org/event/10001/2026-03-04/
LOCATION:SVETA LV Temple\, Lakshmi Venkateswara Temple\, 18109 NE 76th St\, STE#105\, Redmond\, WA\, 98052\, United States
ATTACH;FMTTYPE=image/png:https://www.lvtemple.org/wp-content/uploads/2026/02/event-flyers-2026-02-07t172452-473.png
END:VEVENT
BEGIN:VEVENT
DTSTART;TZID=America/Los_Angeles:20260305T183000
DTEND;TZID=America/Los_Angeles:20260305T203000
DTSTAMP:20260423T205338
CREATED:20260208T032830Z
LAST-MODIFIED:20260208T032947Z
UID:10005222-1772735400-1772742600@www.lvtemple.org
SUMMARY:2026 Sakala Kaarya Siddhi Srimad Ramayana Parayanam
DESCRIPTION:
URL:https://www.lvtemple.org/event/10001/2026-03-05/
LOCATION:SVETA LV Temple\, Lakshmi Venkateswara Temple\, 18109 NE 76th St\, STE#105\, Redmond\, WA\, 98052\, United States
ATTACH;FMTTYPE=image/png:https://www.lvtemple.org/wp-content/uploads/2026/02/event-flyers-2026-02-07t172452-473.png
END:VEVENT
BEGIN:VEVENT
DTSTART;TZID=America/Los_Angeles:20260306T183000
DTEND;TZID=America/Los_Angeles:20260306T203000
DTSTAMP:20260423T205338
CREATED:20260208T032830Z
LAST-MODIFIED:20260208T032947Z
UID:10005223-1772821800-1772829000@www.lvtemple.org
SUMMARY:2026 Sakala Kaarya Siddhi Srimad Ramayana Parayanam
DESCRIPTION:
URL:https://www.lvtemple.org/event/10001/2026-03-06/
LOCATION:SVETA LV Temple\, Lakshmi Venkateswara Temple\, 18109 NE 76th St\, STE#105\, Redmond\, WA\, 98052\, United States
ATTACH;FMTTYPE=image/png:https://www.lvtemple.org/wp-content/uploads/2026/02/event-flyers-2026-02-07t172452-473.png
END:VEVENT
BEGIN:VEVENT
DTSTART;TZID=America/Los_Angeles:20260306T190000
DTEND;TZID=America/Los_Angeles:20260306T203000
DTSTAMP:20260423T205338
CREATED:20251231T185702Z
LAST-MODIFIED:20251231T185703Z
UID:10005098-1772823600-1772829000@www.lvtemple.org
SUMMARY:2026 - Siddhi Vinayaka Abhishekam
DESCRIPTION:
URL:https://www.lvtemple.org/event/2026-siddhi-vinayaka-abhishekam/2026-03-06/
LOCATION:SVETA LV Temple\, Lakshmi Venkateswara Temple\, 18109 NE 76th St\, STE#105\, Redmond\, WA\, 98052\, United States
ATTACH;FMTTYPE=image/jpeg:https://www.lvtemple.org/wp-content/uploads/2025/12/whatsapp-image-2025-01-04-at-8-11-14-pm-1.jpeg
END:VEVENT
BEGIN:VEVENT
DTSTART;TZID=America/Los_Angeles:20260307T100000
DTEND;TZID=America/Los_Angeles:20260307T140000
DTSTAMP:20260423T205338
CREATED:20251231T183455Z
LAST-MODIFIED:20251231T183455Z
UID:10005085-1772877600-1772892000@www.lvtemple.org
SUMMARY:2026 - Lakshmi Venkateswara\, Maha Lakshmi & Andal Abhishekam/Tirumanjanam
DESCRIPTION:
URL:https://www.lvtemple.org/event/2026-lakshmi-venkateswara-maha-lakshmi-andal-abhishekam-tirumanjanam/2026-03-07/
LOCATION:SVETA LV Temple\, Lakshmi Venkateswara Temple\, 18109 NE 76th St\, STE#105\, Redmond\, WA\, 98052\, United States
ATTACH;FMTTYPE=image/jpeg:https://www.lvtemple.org/wp-content/uploads/2022/12/Event-Flyers-2.jpg
END:VEVENT
BEGIN:VEVENT
DTSTART;TZID=America/Los_Angeles:20260307T183000
DTEND;TZID=America/Los_Angeles:20260307T203000
DTSTAMP:20260423T205338
CREATED:20260208T032830Z
LAST-MODIFIED:20260208T032947Z
UID:10005224-1772908200-1772915400@www.lvtemple.org
SUMMARY:2026 Sakala Kaarya Siddhi Srimad Ramayana Parayanam
DESCRIPTION:
URL:https://www.lvtemple.org/event/10001/2026-03-07/
LOCATION:SVETA LV Temple\, Lakshmi Venkateswara Temple\, 18109 NE 76th St\, STE#105\, Redmond\, WA\, 98052\, United States
ATTACH;FMTTYPE=image/png:https://www.lvtemple.org/wp-content/uploads/2026/02/event-flyers-2026-02-07t172452-473.png
END:VEVENT
BEGIN:VEVENT
DTSTART;TZID=America/Los_Angeles:20260307T190000
DTEND;TZID=America/Los_Angeles:20260307T203000
DTSTAMP:20260423T205338
CREATED:20251231T191844Z
LAST-MODIFIED:20251231T191845Z
UID:10005122-1772910000-1772915400@www.lvtemple.org
SUMMARY:2026 - Narasimha Abhishekam
DESCRIPTION:
URL:https://www.lvtemple.org/event/2026-narasimha-abhishekam/2026-03-07/
LOCATION:SVETA LV Temple\, Lakshmi Venkateswara Temple\, 18109 NE 76th St\, STE#105\, Redmond\, WA\, 98052\, United States
ATTACH;FMTTYPE=image/jpeg:https://www.lvtemple.org/wp-content/uploads/2025/12/event-flyers-6-1-1.jpg
END:VEVENT
END:VCALENDAR