

BEGIN:VCALENDAR
VERSION:2.0
PRODID:-//Home - ECPv6.15.20//NONSGML v1.0//EN
CALSCALE:GREGORIAN
METHOD:PUBLISH
X-WR-CALNAME:Home
X-ORIGINAL-URL:https://www.lvtemple.org
X-WR-CALDESC:Events for Home
REFRESH-INTERVAL;VALUE=DURATION:PT1H
X-Robots-Tag:noindex
X-PUBLISHED-TTL:PT1H
BEGIN:VTIMEZONE
TZID:America/Los_Angeles
BEGIN:DAYLIGHT
TZOFFSETFROM:-0800
TZOFFSETTO:-0700
TZNAME:PDT
DTSTART:20250309T100000
END:DAYLIGHT
BEGIN:STANDARD
TZOFFSETFROM:-0700
TZOFFSETTO:-0800
TZNAME:PST
DTSTART:20251102T090000
END:STANDARD
BEGIN:DAYLIGHT
TZOFFSETFROM:-0800
TZOFFSETTO:-0700
TZNAME:PDT
DTSTART:20260308T100000
END:DAYLIGHT
BEGIN:STANDARD
TZOFFSETFROM:-0700
TZOFFSETTO:-0800
TZNAME:PST
DTSTART:20261101T090000
END:STANDARD
BEGIN:DAYLIGHT
TZOFFSETFROM:-0800
TZOFFSETTO:-0700
TZNAME:PDT
DTSTART:20270314T100000
END:DAYLIGHT
BEGIN:STANDARD
TZOFFSETFROM:-0700
TZOFFSETTO:-0800
TZNAME:PST
DTSTART:20271107T090000
END:STANDARD
END:VTIMEZONE
BEGIN:VEVENT
DTSTART;TZID=America/Los_Angeles:20260315T180000
DTEND;TZID=America/Los_Angeles:20260315T193000
DTSTAMP:20260424T002810
CREATED:20260312T073301Z
LAST-MODIFIED:20260312T073301Z
UID:10005260-1773597600-1773603000@www.lvtemple.org
SUMMARY:Rama Rasa Madhuri- Dance Recital
DESCRIPTION:
URL:https://www.lvtemple.org/event/rama-rasa-madhuri-dance-recital/
LOCATION:SVETA LV Temple\, Lakshmi Venkateswara Temple\, 18109 NE 76th St\, STE#105\, Redmond\, WA\, 98052\, United States
ATTACH;FMTTYPE=image/jpeg:https://www.lvtemple.org/wp-content/uploads/2026/03/event-flyers-2026-03-11t233410-927.jpg
END:VEVENT
BEGIN:VEVENT
DTSTART;TZID=America/Los_Angeles:20260315T183000
DTEND;TZID=America/Los_Angeles:20260315T203000
DTSTAMP:20260424T002810
CREATED:20260208T032830Z
LAST-MODIFIED:20260208T032947Z
UID:10005232-1773599400-1773606600@www.lvtemple.org
SUMMARY:2026 Sakala Kaarya Siddhi Srimad Ramayana Parayanam
DESCRIPTION:
URL:https://www.lvtemple.org/event/10001/2026-03-15/
LOCATION:SVETA LV Temple\, Lakshmi Venkateswara Temple\, 18109 NE 76th St\, STE#105\, Redmond\, WA\, 98052\, United States
ATTACH;FMTTYPE=image/png:https://www.lvtemple.org/wp-content/uploads/2026/02/event-flyers-2026-02-07t172452-473.png
END:VEVENT
BEGIN:VEVENT
DTSTART;TZID=America/Los_Angeles:20260315T190000
DTEND;TZID=America/Los_Angeles:20260315T203000
DTSTAMP:20260424T002810
CREATED:20251231T195754Z
LAST-MODIFIED:20251231T195754Z
UID:10005156-1773601200-1773606600@www.lvtemple.org
SUMMARY:2026 - Shravana Nakshtram - Srinivasa Kalyanam
DESCRIPTION:
URL:https://www.lvtemple.org/event/2026-shravana-nakshtram-srinivasa-kalyanam/2026-03-15/
LOCATION:SVETA LV Temple\, Lakshmi Venkateswara Temple\, 18109 NE 76th St\, STE#105\, Redmond\, WA\, 98052\, United States
ATTACH;FMTTYPE=image/jpeg:https://www.lvtemple.org/wp-content/uploads/2022/12/Event-Flyers-9-1.jpg
END:VEVENT
BEGIN:VEVENT
DTSTART;TZID=America/Los_Angeles:20260316T183000
DTEND;TZID=America/Los_Angeles:20260316T203000
DTSTAMP:20260424T002810
CREATED:20260208T032830Z
LAST-MODIFIED:20260208T032947Z
UID:10005233-1773685800-1773693000@www.lvtemple.org
SUMMARY:2026 Sakala Kaarya Siddhi Srimad Ramayana Parayanam
DESCRIPTION:
URL:https://www.lvtemple.org/event/10001/2026-03-16/
LOCATION:SVETA LV Temple\, Lakshmi Venkateswara Temple\, 18109 NE 76th St\, STE#105\, Redmond\, WA\, 98052\, United States
ATTACH;FMTTYPE=image/png:https://www.lvtemple.org/wp-content/uploads/2026/02/event-flyers-2026-02-07t172452-473.png
END:VEVENT
BEGIN:VEVENT
DTSTART;TZID=America/Los_Angeles:20260316T190000
DTEND;TZID=America/Los_Angeles:20260316T203000
DTSTAMP:20260424T002810
CREATED:20251231T193545Z
LAST-MODIFIED:20251231T193546Z
UID:10005136-1773687600-1773693000@www.lvtemple.org
SUMMARY:2026 - Pradosham Shiva Rudrabhishekam
DESCRIPTION:
URL:https://www.lvtemple.org/event/2026-pradosham-shiva-rudrabhishekam/2026-03-16/
LOCATION:SVETA LV Temple\, Lakshmi Venkateswara Temple\, 18109 NE 76th St\, STE#105\, Redmond\, WA\, 98052\, United States
ATTACH;FMTTYPE=image/jpeg:https://www.lvtemple.org/wp-content/uploads/2025/12/event-flyers-2-1-1.jpg
END:VEVENT
BEGIN:VEVENT
DTSTART;TZID=America/Los_Angeles:20260317T183000
DTEND;TZID=America/Los_Angeles:20260317T203000
DTSTAMP:20260424T002810
CREATED:20260208T032830Z
LAST-MODIFIED:20260208T032947Z
UID:10005234-1773772200-1773779400@www.lvtemple.org
SUMMARY:2026 Sakala Kaarya Siddhi Srimad Ramayana Parayanam
DESCRIPTION:
URL:https://www.lvtemple.org/event/10001/2026-03-17/
LOCATION:SVETA LV Temple\, Lakshmi Venkateswara Temple\, 18109 NE 76th St\, STE#105\, Redmond\, WA\, 98052\, United States
ATTACH;FMTTYPE=image/png:https://www.lvtemple.org/wp-content/uploads/2026/02/event-flyers-2026-02-07t172452-473.png
END:VEVENT
BEGIN:VEVENT
DTSTART;TZID=America/Los_Angeles:20260318T183000
DTEND;TZID=America/Los_Angeles:20260318T203000
DTSTAMP:20260424T002810
CREATED:20260208T032830Z
LAST-MODIFIED:20260208T032947Z
UID:10005235-1773858600-1773865800@www.lvtemple.org
SUMMARY:2026 Sakala Kaarya Siddhi Srimad Ramayana Parayanam
DESCRIPTION:
URL:https://www.lvtemple.org/event/10001/2026-03-18/
LOCATION:SVETA LV Temple\, Lakshmi Venkateswara Temple\, 18109 NE 76th St\, STE#105\, Redmond\, WA\, 98052\, United States
ATTACH;FMTTYPE=image/png:https://www.lvtemple.org/wp-content/uploads/2026/02/event-flyers-2026-02-07t172452-473.png
END:VEVENT
BEGIN:VEVENT
DTSTART;VALUE=DATE:20260319
DTEND;VALUE=DATE:20260320
DTSTAMP:20260424T002810
CREATED:20260312T075038Z
LAST-MODIFIED:20260314T065428Z
UID:10005261-1773878400-1773964799@www.lvtemple.org
SUMMARY:Parabhava Yugadi Celebration
DESCRIPTION:
URL:https://www.lvtemple.org/event/parabhava-yugadi-celebration/
LOCATION:SVETA LV Temple\, Lakshmi Venkateswara Temple\, 18109 NE 76th St\, STE#105\, Redmond\, WA\, 98052\, United States
ATTACH;FMTTYPE=image/jpeg:https://www.lvtemple.org/wp-content/uploads/2026/03/event-flyers-2026-03-12t003942-637.jpg
END:VEVENT
BEGIN:VEVENT
DTSTART;TZID=America/Los_Angeles:20260319T183000
DTEND;TZID=America/Los_Angeles:20260319T203000
DTSTAMP:20260424T002810
CREATED:20260208T032830Z
LAST-MODIFIED:20260208T032947Z
UID:10005236-1773945000-1773952200@www.lvtemple.org
SUMMARY:2026 Sakala Kaarya Siddhi Srimad Ramayana Parayanam
DESCRIPTION:
URL:https://www.lvtemple.org/event/10001/2026-03-19/
LOCATION:SVETA LV Temple\, Lakshmi Venkateswara Temple\, 18109 NE 76th St\, STE#105\, Redmond\, WA\, 98052\, United States
ATTACH;FMTTYPE=image/png:https://www.lvtemple.org/wp-content/uploads/2026/02/event-flyers-2026-02-07t172452-473.png
END:VEVENT
BEGIN:VEVENT
DTSTART;TZID=America/Los_Angeles:20260320T183000
DTEND;TZID=America/Los_Angeles:20260320T203000
DTSTAMP:20260424T002810
CREATED:20260208T032830Z
LAST-MODIFIED:20260208T032947Z
UID:10005237-1774031400-1774038600@www.lvtemple.org
SUMMARY:2026 Sakala Kaarya Siddhi Srimad Ramayana Parayanam
DESCRIPTION:
URL:https://www.lvtemple.org/event/10001/2026-03-20/
LOCATION:SVETA LV Temple\, Lakshmi Venkateswara Temple\, 18109 NE 76th St\, STE#105\, Redmond\, WA\, 98052\, United States
ATTACH;FMTTYPE=image/png:https://www.lvtemple.org/wp-content/uploads/2026/02/event-flyers-2026-02-07t172452-473.png
END:VEVENT
BEGIN:VEVENT
DTSTART;TZID=America/Los_Angeles:20260321T183000
DTEND;TZID=America/Los_Angeles:20260321T203000
DTSTAMP:20260424T002810
CREATED:20260208T032830Z
LAST-MODIFIED:20260208T032947Z
UID:10005238-1774117800-1774125000@www.lvtemple.org
SUMMARY:2026 Sakala Kaarya Siddhi Srimad Ramayana Parayanam
DESCRIPTION:
URL:https://www.lvtemple.org/event/10001/2026-03-21/
LOCATION:SVETA LV Temple\, Lakshmi Venkateswara Temple\, 18109 NE 76th St\, STE#105\, Redmond\, WA\, 98052\, United States
ATTACH;FMTTYPE=image/png:https://www.lvtemple.org/wp-content/uploads/2026/02/event-flyers-2026-02-07t172452-473.png
END:VEVENT
END:VCALENDAR